BEGIN:VCALENDAR
VERSION:2.0
PRODID:-//Our Family of Charitable Foundations - ECPv6.13.2.1//NONSGML v1.0//EN
CALSCALE:GREGORIAN
METHOD:PUBLISH
X-ORIGINAL-URL:https://reocharitablefoundation.org
X-WR-CALDESC:Events for Our Family of Charitable Foundations
REFRESH-INTERVAL;VALUE=DURATION:PT1H
X-Robots-Tag:noindex
X-PUBLISHED-TTL:PT1H
BEGIN:VTIMEZONE
TZID:America/New_York
BEGIN:DAYLIGHT
TZOFFSETFROM:-0500
TZOFFSETTO:-0400
TZNAME:EDT
DTSTART:20260308T070000
END:DAYLIGHT
BEGIN:STANDARD
TZOFFSETFROM:-0400
TZOFFSETTO:-0500
TZNAME:EST
DTSTART:20261101T060000
END:STANDARD
END:VTIMEZONE
BEGIN:VEVENT
DTSTART;TZID=America/New_York:20260516T080000
DTEND;TZID=America/New_York:20260516T130000
DTSTAMP:20260423T154859
CREATED:20260409T184858Z
LAST-MODIFIED:20260420T163111Z
UID:2175-1778918400-1778936400@reocharitablefoundation.org
SUMMARY:Walk & Wag and Run
DESCRIPTION:Walk & Wag and Run is the Humane Society of Huron Valley’s largest annual fundraiser\, and the best dog party of the year! Bring your dogs\, bring your family\, and join in the fun. Sign up for the 1-mile fun walk\, for the chipped timed 5k\, or just enjoy the games\, activities\, and dog-watching. \nReinhart Team \nReal Estate One Team
URL:https://reocharitablefoundation.org/event/walk-wag-and-run-2/
LOCATION:Rolling Hills County Park\, 7660 Stony Creek Rd\, Ypsilanti Twp\, MI\, 48197\, United States
END:VEVENT
END:VCALENDAR