BEGIN:VCALENDAR
VERSION:2.0
PRODID:-//Our Family of Charitable Foundations - ECPv6.13.2.1//NONSGML v1.0//EN
CALSCALE:GREGORIAN
METHOD:PUBLISH
X-WR-CALNAME:Our Family of Charitable Foundations
X-ORIGINAL-URL:https://reocharitablefoundation.org
X-WR-CALDESC:Events for Our Family of Charitable Foundations
REFRESH-INTERVAL;VALUE=DURATION:PT1H
X-Robots-Tag:noindex
X-PUBLISHED-TTL:PT1H
BEGIN:VTIMEZONE
TZID:America/New_York
BEGIN:DAYLIGHT
TZOFFSETFROM:-0500
TZOFFSETTO:-0400
TZNAME:EDT
DTSTART:20260308T070000
END:DAYLIGHT
BEGIN:STANDARD
TZOFFSETFROM:-0400
TZOFFSETTO:-0500
TZNAME:EST
DTSTART:20261101T060000
END:STANDARD
END:VTIMEZONE
BEGIN:VEVENT
DTSTART;TZID=America/New_York:20260527T163000
DTEND;TZID=America/New_York:20260527T183000
DTSTAMP:20260423T204638
CREATED:20260423T211949Z
LAST-MODIFIED:20260423T211949Z
UID:2202-1779899400-1779906600@reocharitablefoundation.org
SUMMARY:SPF & Spirits
DESCRIPTION:Join us for SPF & Spirits\, a relaxed and meaningful happy hour dedicated to raising awareness and funds for the Skin Cancer Foundation. Enjoy an evening of mingling\, light refreshments\, and great company—all while supporting an important cause. The event is at Venue\, 1919 S Industrial Hwy\, Ann Arbor\, MI 48104\, on May 27\, 2026\, from 4:30 – 6:30 PM! \nReinhart Charitable Foundation is pleased to present this event during Skin Cancer Awareness month\, as one of our own\, Meg\, was impacted by skin cancer. Learn more about her story here. \nGuests will have the opportunity to connect\, give back\, and be entered in a special drawing for a chance to win an epic prize. Whether you’re coming to network\, unwind\, or make an impact\, your presence helps shine a light on skin cancer prevention and education. \nFor your donation\, you’ll be entered into our drawing. Every $25 mark = an additional ticket into the drawing. Just for showing up at the event\, you’ll receive a ticket into our drawing! \nCome sip\, socialize\, and support—because protecting your skin is always in style.
URL:https://reocharitablefoundation.org/event/spf-spirits/
LOCATION:Venue by 4M\, 1919 S. Industrial Highway\, Ann Arbor\, MI\, 48104
END:VEVENT
END:VCALENDAR