BEGIN:VCALENDAR
VERSION:2.0
PRODID:-//Our Family of Charitable Foundations - ECPv6.13.2.1//NONSGML v1.0//EN
CALSCALE:GREGORIAN
METHOD:PUBLISH
X-WR-CALNAME:Our Family of Charitable Foundations
X-ORIGINAL-URL:https://reocharitablefoundation.org
X-WR-CALDESC:Events for Our Family of Charitable Foundations
REFRESH-INTERVAL;VALUE=DURATION:PT1H
X-Robots-Tag:noindex
X-PUBLISHED-TTL:PT1H
BEGIN:VTIMEZONE
TZID:America/New_York
BEGIN:DAYLIGHT
TZOFFSETFROM:-0500
TZOFFSETTO:-0400
TZNAME:EDT
DTSTART:20250309T070000
END:DAYLIGHT
BEGIN:STANDARD
TZOFFSETFROM:-0400
TZOFFSETTO:-0500
TZNAME:EST
DTSTART:20251102T060000
END:STANDARD
END:VTIMEZONE
BEGIN:VTIMEZONE
TZID:America/Halifax
BEGIN:DAYLIGHT
TZOFFSETFROM:-0400
TZOFFSETTO:-0300
TZNAME:ADT
DTSTART:20240310T060000
END:DAYLIGHT
BEGIN:STANDARD
TZOFFSETFROM:-0300
TZOFFSETTO:-0400
TZNAME:AST
DTSTART:20241103T050000
END:STANDARD
END:VTIMEZONE
BEGIN:VEVENT
DTSTART;TZID=America/New_York:20250927T100000
DTEND;TZID=America/New_York:20250927T170000
DTSTAMP:20260423T174840
CREATED:20250725T211638Z
LAST-MODIFIED:20250725T211849Z
UID:2112-1758967200-1758992400@reocharitablefoundation.org
SUMMARY:Special Olympics Fall Games SOCCER
DESCRIPTION:
URL:https://reocharitablefoundation.org/event/special-olympics-fall-games-soccer/
LOCATION:Independence Park\, 1898 Denton Rd\, Canton\, MI\, 48188\, United States
ATTACH;FMTTYPE=image/jpeg:https://reocharitablefoundation.org/wp-content/uploads/2023/08/soccer.jpg
END:VEVENT
BEGIN:VEVENT
DTSTART;TZID=America/New_York:20250927T090000
DTEND;TZID=America/New_York:20250927T120000
DTSTAMP:20260423T174840
CREATED:20250903T143408Z
LAST-MODIFIED:20250903T144841Z
UID:2139-1758963600-1758974400@reocharitablefoundation.org
SUMMARY:REO Milford Breast Cancer 5K Walk
DESCRIPTION:Join us as we walk to raise funds and awareness for Five Points of Hope\, a Michigan-based non-profit organization dedicated to assisting Michigan residents experiencing financial difficulties while dealing with the diagnosis of cancer. \nRAIN DATE 10/4
URL:https://reocharitablefoundation.org/event/reo-milford-breast-cancer-5k-walk/
LOCATION:Real Estate One Milford\, 560 N. Milford Rd\, Milford\, MI\, 48381
ATTACH;FMTTYPE=image/jpeg:https://reocharitablefoundation.org/wp-content/uploads/2025/09/MilfordBCW25-scaled.jpeg
END:VEVENT
BEGIN:VEVENT
DTSTART;TZID=America/New_York:20250926T090000
DTEND;TZID=America/New_York:20250926T170000
DTSTAMP:20260423T174840
CREATED:20250725T212148Z
LAST-MODIFIED:20250725T225605Z
UID:2114-1758877200-1758906000@reocharitablefoundation.org
SUMMARY:Special Olympics Golf
DESCRIPTION:
URL:https://reocharitablefoundation.org/event/special-olympics-golf/
LOCATION:Eagle Crest Resort\, 1275 S Huron St\, Ypsilanti\, MI\, 48197\, United States
ATTACH;FMTTYPE=image/png:https://reocharitablefoundation.org/wp-content/uploads/2023/08/golf.png
END:VEVENT
BEGIN:VEVENT
DTSTART;TZID=America/New_York:20250920T090000
DTEND;TZID=America/New_York:20250920T120000
DTSTAMP:20260423T174840
CREATED:20250819T163928Z
LAST-MODIFIED:20250903T155021Z
UID:2134-1758358800-1758369600@reocharitablefoundation.org
SUMMARY:Eastside 5K Fun Run/Walk for Special Olympics Michigan
DESCRIPTION:Join the Eastside REO offices for a leisurely stroll or competitive run through beautiful Dodge Park in support of the amazing athletes of Special Olympics Michigan. Registration is free of charge but this is a FUNdraiser and donations are appreciated. Use the link below to register and donate to this event. \nhttps://www.zeffy.com/en-US/ticketing/eastside-5k-fun-runwalk \n 
URL:https://reocharitablefoundation.org/event/eastside-5k-fun-run-walk-for-special-olympics-michigan/
LOCATION:DOGE PARK\, 40620 Utica Rd.\, Sterling Heights\, 48313\, United States
ATTACH;FMTTYPE=application/pdf:https://reocharitablefoundation.org/wp-content/uploads/2025/08/Eastside5K925.pdf
END:VEVENT
BEGIN:VEVENT
DTSTART;TZID=America/New_York:20250918T180000
DTEND;TZID=America/New_York:20250918T210000
DTSTAMP:20260423T174840
CREATED:20250819T163141Z
LAST-MODIFIED:20250819T235759Z
UID:2128-1758218400-1758229200@reocharitablefoundation.org
SUMMARY:EUCHRE TOURNAMENT for Walk to End Alzheimer's
DESCRIPTION:Join the Commerce Real Estate One office as they gather together to raise funds in support of the Walk to End Alzheimer’s team that will be walking on Sunday\, September 21st at the Detroit Zoo. Not only will great competitions take place for the Euchre Tournament\, but also tickets for the Raffle and Wagon of Cheer will be available to purchase. \nDonate to the Team: \nhttps://act.alz.org/site/TR/Walk2025/MI-GreaterMichigan?team_id=951060&pg=team&fr_id=18664on site.
URL:https://reocharitablefoundation.org/event/euchre-tournament-for-walk-to-end-alzheimers-2/
LOCATION:REO Commerce\, 8430 Richardson Roaad\, Commerce Twp\, MI\, 48382
ATTACH;FMTTYPE=application/pdf:https://reocharitablefoundation.org/wp-content/uploads/2025/08/CommEuchre-Flyer25.pdf
END:VEVENT
BEGIN:VEVENT
DTSTART;TZID=America/New_York:20250914T100000
DTEND;TZID=America/New_York:20250914T160000
DTSTAMP:20260423T174840
CREATED:20250819T161602Z
LAST-MODIFIED:20250819T161602Z
UID:2123-1757844000-1757865600@reocharitablefoundation.org
SUMMARY:Ele's Place Healing Hearts Family Walk Run
DESCRIPTION:Ele’s Place is excited to host the 5th Annual Ele’s Place – Ann Arbor Healing Hearts Family Walk/Run. Join in to help raise awareness of and support for grieving children\, teens and their families who are grieving in Ann Arbor\, and the surrounding southeast Michigan area. \nEle’s Place – Ann Arbor families and the community are invited to participate in this family-friendly event to honor\, celebrate and remember a special person who has died. This event is an opportunity to put “one foot in front of the other” to help fund our peer grief support programs and ensure they remain FREE OF CHARGE to all who are in need of our services today\, tomorrow and always. \nSo\, grab your walking shoes and join us for the Ele’s Place Ann Arbor Healing Hearts Family Walk/Run!
URL:https://reocharitablefoundation.org/event/eles-place-healing-hearts-family-walk-run/
LOCATION:Thompson Reuters\, 6300 Interfirst Drive\, Saline\, MI\, 48176
ATTACH;FMTTYPE=image/png:https://reocharitablefoundation.org/wp-content/uploads/2025/08/ElesPlaceLogo_SideTaglineColor.png
END:VEVENT
BEGIN:VEVENT
DTSTART;TZID=America/New_York:20250906T173000
DTEND;TZID=America/New_York:20250906T203000
DTSTAMP:20260423T174840
CREATED:20250819T160510Z
LAST-MODIFIED:20250819T160510Z
UID:2120-1757179800-1757190600@reocharitablefoundation.org
SUMMARY:MSS Taste of Generosity
DESCRIPTION:Michigan Made Food & Fun Festival\nWhat does generosity taste like? It tastes like the finest Michigan made\, grown\, and produced food and beverages available! From our State’s top growers\, producers\, bakers\, cooks\, chefs\, brewers\, vintners\, and bottlers you can enjoy samples\, nibbles\, bites\, cocktails\, and beverages of all of these delicacies. This annual “Michigan Made Food and Fun Festival” to benefit the National Multiple Sclerosis Society will feature Michigan made items for guests to sample and taste (and purchase to take home)\, free activities for children\, as well as engaging and educational exhibits regarding multiple sclerosis and those affected by it. Open to guests of all ages\, this event is an exciting and fun way for the whole family to support your National MS Society in their mission to cure MS while empowering people affected by MS to live their best lives.
URL:https://reocharitablefoundation.org/event/mss-taste-of-generosity/
LOCATION:Royal Oak Farmer’s Market\, 316 E. Eleven Mile\, Royal Oak\, MI\, United States
ATTACH;FMTTYPE=image/png:https://reocharitablefoundation.org/wp-content/uploads/2025/08/MSSTasteofGenerosity.png
END:VEVENT
BEGIN:VEVENT
DTSTART;TZID=America/New_York:20250825T100000
DTEND;TZID=America/New_York:20250825T190000
DTSTAMP:20260423T174840
CREATED:20250725T195131Z
LAST-MODIFIED:20250725T195131Z
UID:2101-1756116000-1756148400@reocharitablefoundation.org
SUMMARY:Chesterfield REO Golf Tournament for Forgotten Harvest
DESCRIPTION:https://www.zeffy.com/ticketing/annual-golf-outing-for-forgotten-harvest \n 
URL:https://reocharitablefoundation.org/event/chesterfield-reo-golf-tournament-for-forgotten-harvest/
LOCATION:Gowanie Golf Club\, 24770 S. River Rd. \, Harrison Twp.\, MI\, 48045\, United States
ATTACH;FMTTYPE=application/pdf:https://reocharitablefoundation.org/wp-content/uploads/2025/07/Chesterfield-Golf-FH-25.pdf
END:VEVENT
BEGIN:VEVENT
DTSTART;TZID=America/New_York:20250822T100000
DTEND;TZID=America/New_York:20250822T150000
DTSTAMP:20260423T174840
CREATED:20250725T211032Z
LAST-MODIFIED:20250725T211032Z
UID:2108-1755856800-1755874800@reocharitablefoundation.org
SUMMARY:Special Olympics Softball Competition
DESCRIPTION:
URL:https://reocharitablefoundation.org/event/special-olympics-softball-competition/
LOCATION:Canton Softball Complex\, 46555 Michigan Ave\, Canton\, MI\, 48188\, United States
ATTACH;FMTTYPE=image/jpeg:https://reocharitablefoundation.org/wp-content/uploads/2023/08/image-from-rawpixel-id-5958431-jpeg-1.jpg
END:VEVENT
BEGIN:VEVENT
DTSTART;TZID=America/New_York:20250612T180000
DTEND;TZID=America/New_York:20250612T210000
DTSTAMP:20260423T174840
CREATED:20250509T190926Z
LAST-MODIFIED:20250509T190926Z
UID:2093-1749751200-1749762000@reocharitablefoundation.org
SUMMARY:HARMONY FOR HOPE CONCERT
DESCRIPTION:
URL:https://reocharitablefoundation.org/event/harmony-for-hope-concert/
LOCATION:Grand Traverse Event Center\, 738 S. Garland Ave.\, Traverse City\, MI
ATTACH;FMTTYPE=image/png:https://reocharitablefoundation.org/wp-content/uploads/2025/05/Screenshot-2025-05-08-at-1.00.43 PM.png
END:VEVENT
BEGIN:VEVENT
DTSTART;TZID=America/New_York:20250612T073000
DTEND;TZID=America/New_York:20250612T173000
DTSTAMP:20260423T174840
CREATED:20250509T190349Z
LAST-MODIFIED:20250509T190513Z
UID:2087-1749713400-1749749400@reocharitablefoundation.org
SUMMARY:SCREEN DOOR OPEN 'FORE' SPECIAL OLYMPICS MICHIGAN
DESCRIPTION:https://www.eventregisterpro.com/event/screendoor#pricing \n  \nTo purchase raffle tickets: use the link for the SDO above and scroll through options to find raffle tickets. \nTo make a raffle donation:   \nhttps://forms.gle/sxdyqXGAMK4EMExC8
URL:https://reocharitablefoundation.org/event/screen-door-open-fore-special-olympics-michigan-2/
LOCATION:Fox Hills Golf & Banquet\, 8768 N. Territorial Rd.\, Plymouth\, MI\, 48170\, United States
ATTACH;FMTTYPE=image/png:https://reocharitablefoundation.org/wp-content/uploads/2025/05/Screenshot-2025-05-08-at-12.49.51 PM.png
END:VEVENT
BEGIN:VEVENT
DTSTART;TZID=America/New_York:20250518T130000
DTEND;TZID=America/New_York:20250518T170000
DTSTAMP:20260423T174840
CREATED:20250509T185535Z
LAST-MODIFIED:20250509T185535Z
UID:2082-1747573200-1747587600@reocharitablefoundation.org
SUMMARY:SOMI CHAMPIONS WALK DETROIT
DESCRIPTION:https://www.classy.org/team/628417
URL:https://reocharitablefoundation.org/event/somi-champions-walk-detroit/
LOCATION:Tin Roof in the District Detroit\, 47 E. Adams\, Detroit\, MI
ATTACH;FMTTYPE=image/png:https://reocharitablefoundation.org/wp-content/uploads/2025/05/Screenshot-2025-05-08-at-12.44.10 PM-e1775760748722.png
END:VEVENT
BEGIN:VEVENT
DTSTART;TZID=America/New_York:20250517T080000
DTEND;TZID=America/New_York:20250517T130000
DTSTAMP:20260423T174840
CREATED:20250509T185149Z
LAST-MODIFIED:20250509T185149Z
UID:2077-1747468800-1747486800@reocharitablefoundation.org
SUMMARY:Walk & Wag and Run
DESCRIPTION:Walk & Wag and Run is the Humane Society of Huron Valley’s most important annual fundraiser\, and the best dog party of the year! Bring your dogs\, bring your family\, and join in the fun. Sign up for the 1 mile fun walk\, for the chipped timed 5k\, or just enjoy the games\, activities and dog-watching. \nhttps://secure.qgiv.com/event/walkwagandrun2025/team/985430/
URL:https://reocharitablefoundation.org/event/walk-wag-and-run/
LOCATION:Rolling Hills County Park\, 7660 Stony Creek Rd\, Ypsilanti Twp\, MI\, 48197\, United States
ATTACH;FMTTYPE=image/png:https://reocharitablefoundation.org/wp-content/uploads/2025/05/Screenshot-2025-05-09-at-2.47.46 PM.png
END:VEVENT
BEGIN:VEVENT
DTSTART;TZID=America/Halifax:20241203T183000
DTEND;TZID=America/Halifax:20241203T213000
DTSTAMP:20260423T174840
CREATED:20241121T173117Z
LAST-MODIFIED:20241121T173117Z
UID:2039-1733250600-1733261400@reocharitablefoundation.org
SUMMARY:Giving Tuesday Trivia Night
DESCRIPTION:
URL:https://reocharitablefoundation.org/event/giving-tuesday-trivia-night/
LOCATION:Venue by 4M\, 1919 S. Industrial Highway\, Ann Arbor\, MI\, 48104
ATTACH;FMTTYPE=application/pdf:https://reocharitablefoundation.org/wp-content/uploads/2024/11/GT24EastTrivia.pdf
END:VEVENT
BEGIN:VEVENT
DTSTART;TZID=America/Halifax:20241203T120000
DTEND;TZID=America/Halifax:20241203T160000
DTSTAMP:20260423T174840
CREATED:20241121T172534Z
LAST-MODIFIED:20241121T172534Z
UID:2033-1733227200-1733241600@reocharitablefoundation.org
SUMMARY:Giving Tuesday Raffle Extravaganza
DESCRIPTION:
URL:https://reocharitablefoundation.org/event/giving-tuesday-raffle-extravaganza/
LOCATION:Reinhart West\, 2275 W. Stadium Blvd\, Ann Arbor\, 48103
ATTACH;FMTTYPE=application/pdf:https://reocharitablefoundation.org/wp-content/uploads/2024/11/GT24WestRaffle.pdf
END:VEVENT
BEGIN:VEVENT
DTSTART;TZID=America/Halifax:20241203T120000
DTEND;TZID=America/Halifax:20241203T150000
DTSTAMP:20260423T174840
CREATED:20241121T163437Z
LAST-MODIFIED:20241121T163437Z
UID:2018-1733227200-1733238000@reocharitablefoundation.org
SUMMARY:Giving Tuesday Bloody Mary Day in Chesterfield
DESCRIPTION:
URL:https://reocharitablefoundation.org/event/giving-tuesday-bloody-mary-day-in-chesterfield/
LOCATION:Real Estate One\, 17800 Gration Avenue\, Chesterfield\, 48051
ATTACH;FMTTYPE=application/pdf:https://reocharitablefoundation.org/wp-content/uploads/2024/11/GT24ChesterfieldBM.pdf
END:VEVENT
BEGIN:VEVENT
DTSTART;TZID=America/Halifax:20241203T120000
DTEND;TZID=America/Halifax:20241203T140000
DTSTAMP:20260423T174840
CREATED:20241122T192903Z
LAST-MODIFIED:20241122T192903Z
UID:2043-1733227200-1733234400@reocharitablefoundation.org
SUMMARY:Giving Tuesday Souper Tuesday
DESCRIPTION:
URL:https://reocharitablefoundation.org/event/giving-tuesday-souper-tuesday/
LOCATION:REO Corporate Office\, 26261 Evergreen Road\, Ste 500\, Southfield\, 48075\, United States
ATTACH;FMTTYPE=application/pdf:https://reocharitablefoundation.org/wp-content/uploads/2024/11/GTHomeSuite24.pdf
END:VEVENT
BEGIN:VEVENT
DTSTART;TZID=America/Halifax:20241203T110000
DTEND;TZID=America/Halifax:20241203T140000
DTSTAMP:20260423T174840
CREATED:20241202T155047Z
LAST-MODIFIED:20241202T155047Z
UID:2050-1733223600-1733234400@reocharitablefoundation.org
SUMMARY:Giving Tuesday Ladles of Love
DESCRIPTION:
URL:https://reocharitablefoundation.org/event/giving-tuesday-ladles-of-love/
LOCATION:Real Estate One Offices\, Northern Michigan
ATTACH;FMTTYPE=application/pdf:https://reocharitablefoundation.org/wp-content/uploads/2024/12/GTLoL24.pdf
END:VEVENT
BEGIN:VEVENT
DTSTART;TZID=America/Halifax:20241203T110000
DTEND;TZID=America/Halifax:20241203T140000
DTSTAMP:20260423T174840
CREATED:20241121T171805Z
LAST-MODIFIED:20241121T173311Z
UID:2027-1733223600-1733234400@reocharitablefoundation.org
SUMMARY:Giving Tuesday Chili Cook-Off
DESCRIPTION:
URL:https://reocharitablefoundation.org/event/giving-tuesday-chili-cook-off/
LOCATION:House N2 Home\, 5361 McAuley Drive\, Ypsilanti\, 48197
ATTACH;FMTTYPE=application/pdf:https://reocharitablefoundation.org/wp-content/uploads/2024/11/GT24ChiliSouth-1.pdf
END:VEVENT
BEGIN:VEVENT
DTSTART;TZID=America/Halifax:20241203T090000
DTEND;TZID=America/Halifax:20241203T150000
DTSTAMP:20260423T174840
CREATED:20241121T172137Z
LAST-MODIFIED:20241121T172137Z
UID:2030-1733216400-1733238000@reocharitablefoundation.org
SUMMARY:Giving Tuesday Bake Sale
DESCRIPTION:
URL:https://reocharitablefoundation.org/event/giving-tuesday-bake-sale/
LOCATION:Reinhart Saline Office\, 1020 E. Michigan Ave\, Saline
ATTACH;FMTTYPE=application/pdf:https://reocharitablefoundation.org/wp-content/uploads/2024/11/GT24SalineCookies.pdf
END:VEVENT
BEGIN:VEVENT
DTSTART;TZID=America/Halifax:20241203T033000
DTEND;TZID=America/Halifax:20241203T190000
DTSTAMP:20260423T174840
CREATED:20241121T172815Z
LAST-MODIFIED:20241121T173341Z
UID:2036-1733196600-1733252400@reocharitablefoundation.org
SUMMARY:Giving Tuesday Photos with Santa Paws
DESCRIPTION:
URL:https://reocharitablefoundation.org/event/giving-tuesday-pictures-with-mrs-claus/
LOCATION:Reinhart North\, 2200 Green Road\, Ann Arbor
ATTACH;FMTTYPE=application/pdf:https://reocharitablefoundation.org/wp-content/uploads/2024/11/GT24SantaNorth.pdf
END:VEVENT
BEGIN:VEVENT
DTSTART;TZID=America/Halifax:20241202T080000
DTEND;TZID=America/Halifax:20241203T170000
DTSTAMP:20260423T174840
CREATED:20241202T154807Z
LAST-MODIFIED:20241202T154807Z
UID:2047-1733126400-1733245200@reocharitablefoundation.org
SUMMARY:Giving Back Cereal Drive
DESCRIPTION:
URL:https://reocharitablefoundation.org/event/giving-back-cereal-drive/
LOCATION:Randolph Office\, 521 Randolph Street\, Traverse City\, 49684
ATTACH;FMTTYPE=image/jpeg:https://reocharitablefoundation.org/wp-content/uploads/2024/12/GTRandolph1224.jpg
END:VEVENT
BEGIN:VEVENT
DTSTART;TZID=America/Halifax:20241121T080000
DTEND;TZID=America/Halifax:20241126T170000
DTSTAMP:20260423T174840
CREATED:20241121T163910Z
LAST-MODIFIED:20241121T163910Z
UID:2021-1732176000-1732640400@reocharitablefoundation.org
SUMMARY:Early Bird GIVING TUESDAY Apple Pies and Cinnamon Rolls
DESCRIPTION:
URL:https://reocharitablefoundation.org/event/early-bird-giving-tuesday-apple-pies-and-cinnamon-rolls/
LOCATION:Reinhart Chelsea Office\, 800 S. Main Street\, Chelsea
ATTACH;FMTTYPE=application/pdf:https://reocharitablefoundation.org/wp-content/uploads/2024/11/GT24ChelseePies.pdf
END:VEVENT
BEGIN:VEVENT
DTSTART;TZID=America/Halifax:20241108T173000
DTEND;TZID=America/Halifax:20241108T220000
DTSTAMP:20260423T174840
CREATED:20241029T143805Z
LAST-MODIFIED:20241029T144303Z
UID:1995-1731087000-1731103200@reocharitablefoundation.org
SUMMARY:Compassionate Feast for Huron Valley Humane Society
DESCRIPTION:https://www.hshv.org/feast/
URL:https://reocharitablefoundation.org/event/compassionate-feast/
LOCATION:St. John’s Resort\, 44045 Five Mile Rd.\, Plymouth
ATTACH;FMTTYPE=image/png:https://reocharitablefoundation.org/wp-content/uploads/2024/10/Screenshot-2024-10-08-at-2.03.25 PM.png
END:VEVENT
BEGIN:VEVENT
DTSTART;TZID=America/Halifax:20241107T193000
DTEND;TZID=America/Halifax:20241107T223000
DTSTAMP:20260423T174840
CREATED:20241029T143332Z
LAST-MODIFIED:20241029T143332Z
UID:1992-1731007800-1731018600@reocharitablefoundation.org
SUMMARY:DOGSTRAVAGANZA
DESCRIPTION:  \nThe funds raised from Dogstravaganza will support our shelter operations\, including shelter improvements\, volunteer programs\, our humane education program\, and the costs of taking in animals to the shelter. We are a high-save shelter\, meaning we do not give our animals an end date. Your support will help us continue to provide a safe haven for animals in need. \n\nTickets available NOW! \nhttps://humanesocietyofmacomb.org/dogstravaganza/
URL:https://reocharitablefoundation.org/event/dogstravaganza/
LOCATION:Palazzo Grande\, 54660 Van Dyke Ave\, Shelby Twp
ATTACH;FMTTYPE=image/png:https://reocharitablefoundation.org/wp-content/uploads/2024/10/Screenshot-2024-10-08-at-1.58.56 PM.png
END:VEVENT
BEGIN:VEVENT
DTSTART;TZID=America/Halifax:20241102T080000
DTEND;TZID=America/Halifax:20241102T120000
DTSTAMP:20260423T174840
CREATED:20241029T142516Z
LAST-MODIFIED:20241029T155452Z
UID:1985-1730534400-1730548800@reocharitablefoundation.org
SUMMARY:Walk to End Alzheimer's
DESCRIPTION:Saturday\, November 2nd \nDetroit Zoo \n7:30 a.m. Registration \n9:00 a.m. Opening Ceremony \nREOCF Team \nhttp://act.alz.org/goto/REOCF24 \nCommerce Team \nhttps://act.alz.org/site/TR/Walk2024/MI-GreaterMichigan?team_id=903230&pg=team&fr_id=17682 \nSouthgate Team \nhttps://act.alz.org/site/TR/Walk2024/MI-GreaterMichigan?team_id=856272&pg=team&fr_id=17682 \n  \n 
URL:https://reocharitablefoundation.org/event/walk-to-end-alzheimers-4/
LOCATION:Detroit Zoo
ATTACH;FMTTYPE=image/png:https://reocharitablefoundation.org/wp-content/uploads/2022/08/walk-to-end-alzheimers.png
END:VEVENT
BEGIN:VEVENT
DTSTART;TZID=America/Halifax:20241101T080000
DTEND;TZID=America/Halifax:20241130T170000
DTSTAMP:20260423T174840
CREATED:20241029T182119Z
LAST-MODIFIED:20241029T182448Z
UID:2010-1730448000-1732986000@reocharitablefoundation.org
SUMMARY:Coat Drive REO & Max Broock Offices Oakland County
DESCRIPTION:Oakland County Sheriff’s Office 37th Annual Coat’s for the Cold Coat Drive \nReal Estate One and Max Broock offices throughout Oakland County have volunteered to serve as drop off locations in support of the Oakland County Sheriff’s Office Annual Coats for the Cold Coat Drive. The drive will run from November 1st through the 30th. \n 
URL:https://reocharitablefoundation.org/event/coat-drive-reo-max-broock-offices-oakland-county/
LOCATION:MI
ATTACH;FMTTYPE=image/png:https://reocharitablefoundation.org/wp-content/uploads/2024/10/Screenshot-2024-10-29-at-2.19.14 PM.png
END:VEVENT
BEGIN:VEVENT
DTSTART;TZID=America/Halifax:20241101T080000
DTEND;TZID=America/Halifax:20241130T170000
DTSTAMP:20260423T174840
CREATED:20241029T174444Z
LAST-MODIFIED:20241029T180929Z
UID:1999-1730448000-1732986000@reocharitablefoundation.org
SUMMARY:28th Annual Reinhart Coat Drive in November
DESCRIPTION:November 1st is the official start of the Reinhart Coat Drive and we are celebrating our 28th year! \n \nDuring the month of November\, you may bring your new or gently used coats to any Reinhart Sunday Open House or to any Reinhart sales office. \n \n Over the Coat Drive’s 27 year history\, Reinhart has collected more than 31\,400 coats\, all of which have been donated to agencies in our community. The need for winter coats\, especially for children and plus size adults\, continues to be great. \n \n The 28th Annual Reinhart Coat Drive hopes to help fill that need in our community as the weather gets colder. Warming hearts – one coat at a time.
URL:https://reocharitablefoundation.org/event/28th-annual-reinhart-coat-drive-in-november/
LOCATION:MI
ATTACH;FMTTYPE=image/png:https://reocharitablefoundation.org/wp-content/uploads/2024/10/Screenshot-2024-10-29-at-1.04.12 PM.png
END:VEVENT
BEGIN:VEVENT
DTSTART;VALUE=DATE:20240928
DTEND;VALUE=DATE:20240929
DTSTAMP:20260423T174840
CREATED:20240924T161122Z
LAST-MODIFIED:20240924T161414Z
UID:1963-1727481600-1727567999@reocharitablefoundation.org
SUMMARY:SOMI State Fall Games: Soccer
DESCRIPTION:Saturday\, September 28\n@ Independence Park – Canton\nTentative Time: 7:30am-5:00pm (half-day shifts available)\nVolunteer Roles include: ball retrievers\, scorekeepers\, meals/water assistance\, referees (as long as you have previous referee experience)\n\nJoin us in making an impact on the lives of hundreds of Michiganders with intellectual disabilities from all across the state\, who will be gathering in Southeast Michigan for the culminating celebrations of their selected individual or team sport:
URL:https://reocharitablefoundation.org/event/somi-state-fall-games-soccer-2/
LOCATION:Independence Park\, 1898 Denton Rd\, Canton\, MI\, 48188\, United States
ATTACH;FMTTYPE=image/jpeg:https://reocharitablefoundation.org/wp-content/uploads/2023/08/soccer.jpg
END:VEVENT
BEGIN:VEVENT
DTSTART;VALUE=DATE:20240927
DTEND;VALUE=DATE:20240928
DTSTAMP:20260423T174840
CREATED:20240924T161356Z
LAST-MODIFIED:20240924T161356Z
UID:1964-1727395200-1727481599@reocharitablefoundation.org
SUMMARY:SOMI State Fall Games: Golf
DESCRIPTION:Friday\, September 27\n@ Eagle Crest Golf Course\, Ypsilanti\nTentative Time: 7:30am-5:00pm (half-day shifts available)\n\nJoin us in making an impact on the lives of hundreds of Michiganders with intellectual disabilities from all across the state\, who will be gathering in Southeast Michigan for the culminating celebrations of their selected individual or team sport.
URL:https://reocharitablefoundation.org/event/somi-state-fall-games-golf-2/
LOCATION:Eagle Crest Resort\, 1275 S Huron St\, Ypsilanti\, MI\, 48197\, United States
ATTACH;FMTTYPE=image/png:https://reocharitablefoundation.org/wp-content/uploads/2023/08/golf.png
END:VEVENT
END:VCALENDAR