BEGIN:VCALENDAR
VERSION:2.0
PRODID:-//Our Family of Charitable Foundations - ECPv6.13.2.1//NONSGML v1.0//EN
CALSCALE:GREGORIAN
METHOD:PUBLISH
X-ORIGINAL-URL:https://reocharitablefoundation.org
X-WR-CALDESC:Events for Our Family of Charitable Foundations
REFRESH-INTERVAL;VALUE=DURATION:PT1H
X-Robots-Tag:noindex
X-PUBLISHED-TTL:PT1H
BEGIN:VTIMEZONE
TZID:America/New_York
BEGIN:DAYLIGHT
TZOFFSETFROM:-0500
TZOFFSETTO:-0400
TZNAME:EDT
DTSTART:20260308T070000
END:DAYLIGHT
BEGIN:STANDARD
TZOFFSETFROM:-0400
TZOFFSETTO:-0500
TZNAME:EST
DTSTART:20261101T060000
END:STANDARD
END:VTIMEZONE
BEGIN:VEVENT
DTSTART;VALUE=DATE:20260401
DTEND;VALUE=DATE:20260501
DTSTAMP:20260423T160915
CREATED:20260330T213622Z
LAST-MODIFIED:20260330T213622Z
UID:2163-1775001600-1777593599@reocharitablefoundation.org
SUMMARY:2026 Diaper Drive for SOS Community Services
DESCRIPTION:Reinhart Charitable Foundation is pleased to be holding a diaper drive in April for SOS Community Services. In Washtenaw County\, one in three families struggles to afford diapers. A single child requires approximately 50 diapers per week\, and SOS’s Resource Center can currently only provide ten per week to those in need. \nAs in years past\, SOS is specifically seeking donations of larger diaper sizes (5–7)\, wipes\, and all pull-up sizes up to 5T/6T.\nYou can make a difference by donating through the Amazon wish list and have the items sent directly\, or by dropping them off at any of Reinhart Realtors sales offices. \n 
URL:https://reocharitablefoundation.org/event/2026-diaper-drive-for-sos-community-services/
LOCATION:Reinhart North\, 2200 Green Road\, Ann Arbor
END:VEVENT
BEGIN:VEVENT
DTSTART;VALUE=DATE:20260409
DTEND;VALUE=DATE:20260502
DTSTAMP:20260423T160915
CREATED:20260409T190013Z
LAST-MODIFIED:20260417T181715Z
UID:2182-1775692800-1777679999@reocharitablefoundation.org
SUMMARY:Funds Drive for Bountiful Harvest of Brighton
DESCRIPTION:Ken Neal from our Brighton office\, alongside the Livingston County Association of Realtors\, is hosting a “Funds Drive” for Bountiful Harvest of Brighton. Bountiful Harvest is a food pantry that is a non-profit organization run completely by volunteers. With support from the local community and food banks\, they can provide groceries\, meals\, clothing\, and access to employment agencies to people in need. They are located in Brighton and serve all of Livingston County. \nDonate by scanning the QR code
URL:https://reocharitablefoundation.org/event/funds-drive-for-bountiful-harvest-of-brighton/
LOCATION:MI
END:VEVENT
BEGIN:VEVENT
DTSTART;TZID=America/New_York:20260429T160000
DTEND;TZID=America/New_York:20260429T180000
DTSTAMP:20260423T160915
CREATED:20260413T181253Z
LAST-MODIFIED:20260420T163155Z
UID:2193-1777478400-1777485600@reocharitablefoundation.org
SUMMARY:Max Broock Realtors Brain Power Bash
DESCRIPTION:Join our Max Broock Birmingham\, Bloomfield Hills\, and Royal Oak offices for a night of trivia! All funds raised are going to the Max Broock Charitable Foundation! Please RSVP by April 22\, 2026 to Camille Elsea\, celsea@maxbroock.com! \n \n 
URL:https://reocharitablefoundation.org/event/max-broock-realtors-brain-power-bash/
LOCATION:Hazel’s\, 1 Peabody St\, Birmingham\, MI\, 48009\, United States
END:VEVENT
BEGIN:VEVENT
DTSTART;TZID=America/New_York:20260503T113000
DTEND;TZID=America/New_York:20260503T140000
DTSTAMP:20260423T160915
CREATED:20260409T185426Z
LAST-MODIFIED:20260409T185426Z
UID:2180-1777807800-1777816800@reocharitablefoundation.org
SUMMARY:Special Olympics Champions Walk Detroit
DESCRIPTION:A charity walk benefiting Special Olympics Michigan. Be a champion for inclusion every step of the way! Lace up your sneakers and join our team to raise funds and awareness for the athletes of Special Olympics Michigan! \nhttps://pro.gofundme.com/team/815747 \n 
URL:https://reocharitablefoundation.org/event/special-olympics-champions-walk-detroit/
LOCATION:Tin Roof in the District Detroit\, 47 E. Adams\, Detroit\, MI
END:VEVENT
BEGIN:VEVENT
DTSTART;TZID=America/New_York:20260507T180000
DTEND;TZID=America/New_York:20260507T210000
DTSTAMP:20260423T160915
CREATED:20260409T192756Z
LAST-MODIFIED:20260409T192843Z
UID:2186-1778176800-1778187600@reocharitablefoundation.org
SUMMARY:Harmony for Hope Benefit Concert for Peace Gate Farm Sanctuary
DESCRIPTION:An evening of music featuring Allie Kessel and our very own\, Weston Buchan. The event will include a bubbly toast\, appetizers\, a silent auction\, and a cash bar. All proceeds to benefit Peace Gate Farm Sanctuary. Peace Gate Farm Sanctuary is a 501(c)3 non-profit dedicated to the rescue and rehabilitation of neglected\, orphaned\, abused\, slaughter-bound\, or abandoned farm animals. They promote compassion and educate the public on ethical treatment of animals\, creating a more peaceful world. \nClick for more details to scan the QR code for your ticket: Harmony for Hope \n 
URL:https://reocharitablefoundation.org/event/harmony-for-hope-benefit-concert-for-peace-gate-farm-sanctuary/
LOCATION:Black Star Farms\, 10844 E Revold Rd\, Suttons Bay\, MI\, 49682\, United States
END:VEVENT
BEGIN:VEVENT
DTSTART;TZID=America/New_York:20260516T080000
DTEND;TZID=America/New_York:20260516T130000
DTSTAMP:20260423T160915
CREATED:20260409T184858Z
LAST-MODIFIED:20260420T163111Z
UID:2175-1778918400-1778936400@reocharitablefoundation.org
SUMMARY:Walk & Wag and Run
DESCRIPTION:Walk & Wag and Run is the Humane Society of Huron Valley’s largest annual fundraiser\, and the best dog party of the year! Bring your dogs\, bring your family\, and join in the fun. Sign up for the 1-mile fun walk\, for the chipped timed 5k\, or just enjoy the games\, activities\, and dog-watching. \nReinhart Team \nReal Estate One Team
URL:https://reocharitablefoundation.org/event/walk-wag-and-run-2/
LOCATION:Rolling Hills County Park\, 7660 Stony Creek Rd\, Ypsilanti Twp\, MI\, 48197\, United States
END:VEVENT
BEGIN:VEVENT
DTSTART;TZID=America/New_York:20260611T073000
DTEND;TZID=America/New_York:20260611T170000
DTSTAMP:20260423T160915
CREATED:20260330T214423Z
LAST-MODIFIED:20260330T214423Z
UID:2170-1781163000-1781197200@reocharitablefoundation.org
SUMMARY:21st Annual Screen Door Open 'fore' Special Olympics
DESCRIPTION:The Real Estate One Charitable Foundation is hosting their 21st Annual Screen Door Golf Outing on June 11\, 2026. \nWe will have a great day of golf at the beautiful Fox Hills Golf & Banquet Center in Plymouth\, MI. The event will include a continental breakfast\, 4-person scramble\, lunch\, and a dinner where we hold our raffle of over 100 items following golf. \nGolf Registration – $200/golfer \nDinner Only – $60/person \nRaffle Tickets: 1 for $25\, 5 for $100 \nREGISTRATION\, BREAKFAST AND PUTTING CONTEST COMMENCE AT 7:30 a.m. \n100% of net proceeds go to support Special Olympics of Michigan. \nGolf Flyer 2026 \nLooking to sponsor or donate? Check out our event website!
URL:https://reocharitablefoundation.org/event/21st-annual-screen-door-open-fore-special-olympics/
LOCATION:Fox Hills Golf & Banquet\, 8768 N. Territorial Rd.\, Plymouth\, MI\, 48170\, United States
END:VEVENT
END:VCALENDAR