BEGIN:VCALENDAR
VERSION:2.0
PRODID:-//Our Family of Charitable Foundations - ECPv6.13.2.1//NONSGML v1.0//EN
CALSCALE:GREGORIAN
METHOD:PUBLISH
X-WR-CALNAME:Our Family of Charitable Foundations
X-ORIGINAL-URL:https://reocharitablefoundation.org
X-WR-CALDESC:Events for Our Family of Charitable Foundations
REFRESH-INTERVAL;VALUE=DURATION:PT1H
X-Robots-Tag:noindex
X-PUBLISHED-TTL:PT1H
BEGIN:VTIMEZONE
TZID:America/Halifax
BEGIN:DAYLIGHT
TZOFFSETFROM:-0400
TZOFFSETTO:-0300
TZNAME:ADT
DTSTART:20160313T060000
END:DAYLIGHT
BEGIN:STANDARD
TZOFFSETFROM:-0300
TZOFFSETTO:-0400
TZNAME:AST
DTSTART:20161106T050000
END:STANDARD
END:VTIMEZONE
BEGIN:VTIMEZONE
TZID:UTC
BEGIN:STANDARD
TZOFFSETFROM:+0000
TZOFFSETTO:+0000
TZNAME:UTC
DTSTART:20160101T000000
END:STANDARD
END:VTIMEZONE
BEGIN:VEVENT
DTSTART;TZID=America/Halifax:20161023T130000
DTEND;TZID=America/Halifax:20161023T160000
DTSTAMP:20260425T080946
CREATED:20161003T135700Z
LAST-MODIFIED:20161014T174256Z
UID:1100-1477227600-1477238400@reocharitablefoundation.org
SUMMARY:Reinhart Halloween Maze
DESCRIPTION:  \n[give_form id=”1142″]\n \n \n \nSee flier for details:  halloween-maze-flier16 \n 
URL:https://reocharitablefoundation.org/event/reinhart-halloween-maze/
LOCATION:Reinhart Green Road\, 2200 Green Road\, Ste. A\, Ann Arbor\, 48105\, United States
END:VEVENT
BEGIN:VEVENT
DTSTART;TZID=UTC:20161015T170000
DTEND;TZID=UTC:20161015T210000
DTSTAMP:20260425T080946
CREATED:20160430T204002Z
LAST-MODIFIED:20160822T163032Z
UID:467-1476550800-1476565200@reocharitablefoundation.org
SUMMARY:Light the Night LLS
DESCRIPTION:Join or Donate \n 
URL:https://reocharitablefoundation.org/event/light-the-night-lls/
LOCATION:Memorial Park\, 13 Mile and Woodward\, Royal Oak\, MI\, United States
END:VEVENT
BEGIN:VEVENT
DTSTART;VALUE=DATE:20161001
DTEND;VALUE=DATE:20161002
DTSTAMP:20260425T080946
CREATED:20160430T201845Z
LAST-MODIFIED:20160822T162540Z
UID:466-1475280000-1475366399@reocharitablefoundation.org
SUMMARY:Walk to End Alzheimer's
DESCRIPTION:Join or Donate \n  \n 
URL:https://reocharitablefoundation.org/event/walk-to-end-alzheimers/
LOCATION:Comerica Park\, 2100 Woodward Ave\, Detroit\, MI\, United States
END:VEVENT
BEGIN:VEVENT
DTSTART;VALUE=DATE:20160923
DTEND;VALUE=DATE:20160926
DTSTAMP:20260425T080946
CREATED:20160430T193644Z
LAST-MODIFIED:20160430T201808Z
UID:463-1474588800-1474847999@reocharitablefoundation.org
SUMMARY:Special Olympics Michigan Fall Games
DESCRIPTION:For more information Contact:\njessary@realestateone.com
URL:https://reocharitablefoundation.org/event/special-olympics-michigan-fall-games/
LOCATION:Ann Arbor\, Ypsilanti\, Canton\, MI\, United States
END:VEVENT
BEGIN:VEVENT
DTSTART;TZID=UTC:20160917T080000
DTEND;TZID=UTC:20160917T120000
DTSTAMP:20260425T080946
CREATED:20160506T005016Z
LAST-MODIFIED:20160822T162719Z
UID:643-1474099200-1474113600@reocharitablefoundation.org
SUMMARY:Max Broock Realtors' Run on the Town
DESCRIPTION:Join
URL:https://reocharitablefoundation.org/event/maxbroock-realtors-run-on-the-town/
LOCATION:Booth Park\, 210 Harmon Street\, Birmingham\, MI\, 48009\, United States
ATTACH;FMTTYPE=image/jpeg:https://reocharitablefoundation.org/wp-content/uploads/2016/05/MaxBroockROTT.jpg
END:VEVENT
BEGIN:VEVENT
DTSTART;VALUE=DATE:20160910
DTEND;VALUE=DATE:20160911
DTSTAMP:20260425T080946
CREATED:20160430T192821Z
LAST-MODIFIED:20160430T192821Z
UID:461-1473465600-1473551999@reocharitablefoundation.org
SUMMARY:Bike MS: Great Lakes Fall Breakaway
DESCRIPTION:[su_button url=”http://main.nationalmssociety.org/site/TR?fr_id=27705&pg=team&team_id=473585″ background=”#6CACF4″ size=”8″ radius=”0″ icon=”icon: users”]Join or Donate[/su_button]
URL:https://reocharitablefoundation.org/event/bike-ms-great-lakes-fall-breakaway/
LOCATION:Island Lake Recreation Area\, 12950 East Grand River Avenue\, Brighton\, MI\, United States
END:VEVENT
BEGIN:VEVENT
DTSTART;VALUE=DATE:20160816
DTEND;VALUE=DATE:20160818
DTSTAMP:20260425T080946
CREATED:20160430T190749Z
LAST-MODIFIED:20160430T192354Z
UID:456-1471305600-1471478399@reocharitablefoundation.org
SUMMARY:Bike MS Great Lakes Mid-Michigan
DESCRIPTION:[su_button url=”http://main.nationalmssociety.org/site/TR?fr_id=27704&pg=team&team_id=473586″ background=”#6CACF4″ size=”8″ radius=”0″ icon=”icon: users”]Join or Donate[/su_button]
URL:https://reocharitablefoundation.org/event/bike-ms-great-lakes-mid-michigan/
LOCATION:Michigan State University\, 220 Trowbridge Rd\, East Lansing\, MI\, United States
END:VEVENT
BEGIN:VEVENT
DTSTART;VALUE=DATE:20160806
DTEND;VALUE=DATE:20160807
DTSTAMP:20260425T080946
CREATED:20160430T185517Z
LAST-MODIFIED:20160430T185517Z
UID:454-1470441600-1470527999@reocharitablefoundation.org
SUMMARY:MS Muckfest
DESCRIPTION:
URL:https://reocharitablefoundation.org/event/ms-muckfest/
LOCATION:Willow Metro Park\, New Boston\, MI\, United States
END:VEVENT
BEGIN:VEVENT
DTSTART;TZID=America/Halifax:20160622T080000
DTEND;TZID=America/Halifax:20160622T170000
DTSTAMP:20260425T080946
CREATED:20160608T135249Z
LAST-MODIFIED:20160608T135249Z
UID:828-1466582400-1466614800@reocharitablefoundation.org
SUMMARY:14th Annual Third Level Golf Classic
DESCRIPTION:
URL:https://reocharitablefoundation.org/event/14th-annual-third-level-golf-classic/
LOCATION:Elmbrook Golf Course\, 1750 Townline Road\, Traverse City\, MI\, 49686\, United States
END:VEVENT
BEGIN:VEVENT
DTSTART;TZID=UTC:20160614T080000
DTEND;TZID=UTC:20160614T170000
DTSTAMP:20260425T080946
CREATED:20160430T185106Z
LAST-MODIFIED:20160608T145656Z
UID:452-1465891200-1465923600@reocharitablefoundation.org
SUMMARY:12th Annual Screen Door Open "fore" Special Olympics Michigan
DESCRIPTION:
URL:https://reocharitablefoundation.org/event/12th-annual-screen-door-open-fore-somi/
LOCATION:Northville Hills Golf Club\, 15565 Bay Hill Drive\, Northville\, MI\, 48168\, United States
END:VEVENT
BEGIN:VEVENT
DTSTART;VALUE=DATE:20160602
DTEND;VALUE=DATE:20160605
DTSTAMP:20260425T080946
CREATED:20160430T183534Z
LAST-MODIFIED:20160810T183415Z
UID:450-1464825600-1465084799@reocharitablefoundation.org
SUMMARY:Special Olympics Michigan Summer Games
DESCRIPTION:
URL:https://reocharitablefoundation.org/event/special-olympics-michigan-summer-games/
LOCATION:Central Michigan Univeristy\, 200 S Franklin St\, Mt Pleasant\, MI\, United States
END:VEVENT
BEGIN:VEVENT
DTSTART;TZID=UTC:20160430T080000
DTEND;TZID=UTC:20160430T170000
DTSTAMP:20260425T080946
CREATED:20160430T172230Z
LAST-MODIFIED:20160430T183036Z
UID:448-1462003200-1462035600@reocharitablefoundation.org
SUMMARY:Walk MS
DESCRIPTION:Join or Donate
URL:https://reocharitablefoundation.org/event/walk-ms/
LOCATION:Comerica Park\, 2100 Woodward Ave\, Detroit\, MI\, United States
ATTACH;FMTTYPE=image/png:https://reocharitablefoundation.org/wp-content/uploads/2016/04/Walk-MS-icon.png
END:VEVENT
END:VCALENDAR