BEGIN:VCALENDAR
VERSION:2.0
PRODID:-//Our Family of Charitable Foundations - ECPv6.13.2.1//NONSGML v1.0//EN
CALSCALE:GREGORIAN
METHOD:PUBLISH
X-WR-CALNAME:Our Family of Charitable Foundations
X-ORIGINAL-URL:https://reocharitablefoundation.org
X-WR-CALDESC:Events for Our Family of Charitable Foundations
REFRESH-INTERVAL;VALUE=DURATION:PT1H
X-Robots-Tag:noindex
X-PUBLISHED-TTL:PT1H
BEGIN:VTIMEZONE
TZID:America/Halifax
BEGIN:DAYLIGHT
TZOFFSETFROM:-0400
TZOFFSETTO:-0300
TZNAME:ADT
DTSTART:20160313T060000
END:DAYLIGHT
BEGIN:STANDARD
TZOFFSETFROM:-0300
TZOFFSETTO:-0400
TZNAME:AST
DTSTART:20161106T050000
END:STANDARD
BEGIN:DAYLIGHT
TZOFFSETFROM:-0400
TZOFFSETTO:-0300
TZNAME:ADT
DTSTART:20170312T060000
END:DAYLIGHT
BEGIN:STANDARD
TZOFFSETFROM:-0300
TZOFFSETTO:-0400
TZNAME:AST
DTSTART:20171105T050000
END:STANDARD
BEGIN:DAYLIGHT
TZOFFSETFROM:-0400
TZOFFSETTO:-0300
TZNAME:ADT
DTSTART:20180311T060000
END:DAYLIGHT
BEGIN:STANDARD
TZOFFSETFROM:-0300
TZOFFSETTO:-0400
TZNAME:AST
DTSTART:20181104T050000
END:STANDARD
END:VTIMEZONE
BEGIN:VTIMEZONE
TZID:UTC
BEGIN:STANDARD
TZOFFSETFROM:+0000
TZOFFSETTO:+0000
TZNAME:UTC
DTSTART:20160101T000000
END:STANDARD
END:VTIMEZONE
BEGIN:VEVENT
DTSTART;TZID=America/Halifax:20180519T080000
DTEND;TZID=America/Halifax:20180519T170000
DTSTAMP:20260425T081841
CREATED:20180514T133420Z
LAST-MODIFIED:20180514T133420Z
UID:1290-1526716800-1526749200@reocharitablefoundation.org
SUMMARY:Leukemia Cup Regatta on Saturday\, May 19th
DESCRIPTION:On Saturday\, May 19th\, a Real Estate One team of sailors will be participating in the Leukemia Cup Regatta on Lake St. Claire at the Detroit Yacht Club (1 Riverbank Drive\, Detroit\, MI 48207) raising money and awareness in support of the Leukemia & Lymphoma Society. \nFor nearly 31 years\, participants have been sailing\, powerboating\, and paddling in communities throughout the country in support The Leukemia & Lymphoma Society. Individuals form fundraising teams and the team that raises the most in their community receives the coveted Leukemia Cup. Events take place in a number of different ways\, but all help to fund life-saving research and treatment for blood cancers. Over $62 million has been raised since the first Leukemia Cup in 1988. \nPlease consider supporting our sailors as they sail in support of research and treatment for blood cancers. Simply follow the links below to make a contribution: \nCarol Wagner Fundraising Page \nMary Nicole Fundraising Page
URL:https://reocharitablefoundation.org/event/leukemia-cup-regatta-on-saturday-may-19th/
LOCATION:Detroit Yacht Club\, 1 Riverbank Drive\, Detroit\, MI\, 48207\, United States
END:VEVENT
BEGIN:VEVENT
DTSTART;TZID=America/Halifax:20180203T080000
DTEND;TZID=America/Halifax:20180224T170000
DTSTAMP:20260425T081841
CREATED:20180108T162923Z
LAST-MODIFIED:20180108T162923Z
UID:1283-1517644800-1519491600@reocharitablefoundation.org
SUMMARY:Special Olympics Michigan Polar Plunges
DESCRIPTION:What is the Polar Plunge?\nYou’ve never jumped into frigid water in Michigan in the middle of winter? Well\, we can help change that! \nEach year\, the Law Enforcement ToTraverse Cityrch Run® Polar Plunge series challenges thousands of brave jumpers at numerous locations around the state. It’s a great way for everyone – individuals\, organizations and businesses – to get involved in supporting Special Olympics Michigan. All funds raised go towards year-round sports training and athletic competition for more than 23\,000 children and adults with intellectual disabilities in Michigan. \nIn 2017\, the brave Plungers of the Real Estate One Family of Companies raised over $90\,000.00 (including $30\,000.00 in company match) for SOMI. Please follow the links below to register to join or contribute to one of our awesome teams or plungers.\n \nTraverse City            February 2nd  North Peak Brewing Co. \nAnn Arbor REOCF             February 9th      U of M Big House \nAnn Arbor CRC              February 9th        U of M Big House \nRochester         February 10th    Rochester Mills Beer Co. \nDetroit               February 24th    Belle Isle Boat House
URL:https://reocharitablefoundation.org/event/special-olympics-michigan-polar-plunges/
LOCATION:Various
ATTACH;FMTTYPE=image/png:https://reocharitablefoundation.org/wp-content/uploads/2018/01/SOPolarPlungeLogo2018_Horizontal.png
END:VEVENT
BEGIN:VEVENT
DTSTART;VALUE=DATE:20180131
DTEND;VALUE=DATE:20180203
DTSTAMP:20260425T081841
CREATED:20180108T155816Z
LAST-MODIFIED:20180108T155816Z
UID:1280-1517356800-1517615999@reocharitablefoundation.org
SUMMARY:Special Olympics Michigan Winter Games
DESCRIPTION:Approximately 900 athletes\, 350 coaches/chaperones\, and 500 volunteers participate in various winter competitions in Traverse City and surrounding areas over the course of 3 days. This year\, the Real Estate One Charitable Foundation will field a team of more than 60 volunteers for support in Alpine Skiing\, Cross-Country Skiing\, and Snowboarding at Schuss Mountain at Shanty Creek Resort in Bellaire and Snowshoeing at the Grand Traverse Resort.
URL:https://reocharitablefoundation.org/event/special-olympics-michigan-winter-games/
LOCATION:Greater Traverse City Area
ATTACH;FMTTYPE=image/jpeg:https://reocharitablefoundation.org/wp-content/uploads/2018/01/SOMI-Winter-Snowshoe.jpg
END:VEVENT
BEGIN:VEVENT
DTSTART;TZID=America/Halifax:20170828T103000
DTEND;TZID=America/Halifax:20170828T170000
DTSTAMP:20260425T081841
CREATED:20170801T142758Z
LAST-MODIFIED:20170818T155428Z
UID:1250-1503916200-1503939600@reocharitablefoundation.org
SUMMARY:Advantage Realty Screen Door Open 'Fore Forgotten Harvest
DESCRIPTION:The REO Family of Companies and the REOCF invite you\, your friends and colleagues to spend a day of golf and fun as we raise money for Forgotten Harvest.\nFor every $1 raised\, 5 meals will be provided to those in need within our communities. \nTo Register or Make a Contribution\, please contact Al Beahn @ 586-453-9742 or AJBeahn@mirealsource.com or pay online \n  \nForgotten Harvest is dedicated to relieving hunger in Metro Detroit and preventing nutritious food waste. Formed in 1990 to fight hunger and waste\, Forgotten Harvest “rescued” over 45 million pounds of food in 2016 by collecting surplus prepared and perishable food from 800 sources\, including grocery stores\, fruit and vegetable markets\, restaurants\, caterers\, dairies\, farmers\, and wholesale food distributors. The donated food\, which would otherwise go to waste\, is delivered free-of-charge to 250 emergency food providers – food pantries\, soup kitchens\, homeless and domestic shelters\, children’s homes\, senior centers and group homes – in the Metro Detroit area. Forgotten Harvest covers 2\,000 square miles in Wayne\, Oakland and Macomb counties to feed hungry people. \nForgotten Harvest – www.forgottenharvest.com \nGowanie Golf Club – www.gowaniegolfclub.com\nPronounced “Gow-knee”\, this club was establish in 1910 and originally called Riverview Golf Club by founder Thomas Shoemaker. Riverview was a charter member of the Detroit District Golf Association – now known as the Golf Association of Michigan. The 1920’s brought Dave Millar\, born in Arbroath on Scotland’s North Sea Coast\, less than 10 miles from the famed Carnoustie Championship Links.
URL:https://reocharitablefoundation.org/event/advantage-realty-screen-door-open-fore-forgotten-harvest/
LOCATION:Gowanie Golf Club\, 24770 S. River Rd. \, Mt. Clemens\, MI\, 48046\, United States
ATTACH;FMTTYPE=image/jpeg:https://reocharitablefoundation.org/wp-content/uploads/2017/08/Promo.jpg
END:VEVENT
BEGIN:VEVENT
DTSTART;TZID=America/Halifax:20170826T080000
DTEND;TZID=America/Halifax:20170826T120000
DTSTAMP:20260425T081841
CREATED:20170801T135825Z
LAST-MODIFIED:20170801T135825Z
UID:1247-1503734400-1503748800@reocharitablefoundation.org
SUMMARY:Walk to End Alzheimer's at the Detroit Zoo
DESCRIPTION:Join or Donate \nUnite in a movement to reclaim the future for millions. Join our team for the Alzheimer’s Association Walk to End Alzheimer’s™\, the nation’s largest event to raise awareness and funds to fight Alzheimer’s disease. Together\, we can advance research to treat and prevent Alzheimer’s\, and provide programs to improve the lives of millions of affected Americans.
URL:https://reocharitablefoundation.org/event/walk-to-end-alzheimers-at-the-detroit-zoo/
LOCATION:Detroit Zoo\, 8450 W. 10 Mile Road\, Royal Oak\, 48076
ATTACH;FMTTYPE=image/jpeg:https://reocharitablefoundation.org/wp-content/uploads/2017/08/MBoysFlowers.jpg
END:VEVENT
BEGIN:VEVENT
DTSTART;TZID=America/Halifax:20170806T080000
DTEND;TZID=America/Halifax:20170806T120000
DTSTAMP:20260425T081841
CREATED:20170801T134619Z
LAST-MODIFIED:20170801T134619Z
UID:1246-1502006400-1502020800@reocharitablefoundation.org
SUMMARY:MUCKFEST MS at Willow Metro Park
DESCRIPTION:Check out our team page \n44 Real Muckers Strong \nMuckFest MS is the fun mud run in support of a world free of multiple sclerosis. The run is pure athletic hilarity on a muddy course full of outrageous obstacles. MuckFest MS is something that must be seen to be believed. So by all means\, come out to watch or better yet\, join us! \nWhile there will be a lot of laughs and mucking about\, we are also supporting the important work of the National MS Society in our community.
URL:https://reocharitablefoundation.org/event/muckfest-ms-at-willow-metro-park/
LOCATION:Willow Metro Park\, New Boston\, MI\, United States
ATTACH;FMTTYPE=image/jpeg:https://reocharitablefoundation.org/wp-content/uploads/2016/08/2016_MFMS_DTW_stuart-1.jpg
END:VEVENT
BEGIN:VEVENT
DTSTART;VALUE=DATE:20170613
DTEND;VALUE=DATE:20170614
DTSTAMP:20260425T081841
CREATED:20170531T173301Z
LAST-MODIFIED:20170531T182611Z
UID:1236-1497312000-1497398399@reocharitablefoundation.org
SUMMARY:13th Annual Screen Door Open 'Fore' Special Olympics Michigan
DESCRIPTION:Play begins at 10:00 a.m.\nDinner begins at 5:00 p.m.\nProgram\, auction and raffle immediately after.
URL:https://reocharitablefoundation.org/event/13th-annual-screen-door-open-fore-special-olympics-michigan/
LOCATION:Northville Hills Golf Club\, 15565 Bay Hill Drive\, Northville\, MI\, 48168\, United States
ATTACH;FMTTYPE=image/jpeg:https://reocharitablefoundation.org/wp-content/uploads/2017/05/DSC_0957.jpg
END:VEVENT
BEGIN:VEVENT
DTSTART;VALUE=DATE:20170601
DTEND;VALUE=DATE:20170604
DTSTAMP:20260425T081841
CREATED:20170531T171451Z
LAST-MODIFIED:20170531T171451Z
UID:1229-1496275200-1496534399@reocharitablefoundation.org
SUMMARY:Special Olympics Michigan Summer Games
DESCRIPTION:Central Michigan University\nMt. Pleasant
URL:https://reocharitablefoundation.org/event/special-olympics-michigan-summer-games-2/
LOCATION:MI
ATTACH;FMTTYPE=image/jpeg:https://reocharitablefoundation.org/wp-content/uploads/2017/05/6.jpg
END:VEVENT
BEGIN:VEVENT
DTSTART;TZID=America/Halifax:20170507T090000
DTEND;TZID=America/Halifax:20170507T130000
DTSTAMP:20260425T081841
CREATED:20170418T153911Z
LAST-MODIFIED:20170418T154012Z
UID:1222-1494147600-1494162000@reocharitablefoundation.org
SUMMARY:WalkMS
DESCRIPTION:  \nThe Real Estate One Charitable Foundation and it’s amazing volunteers and fundraisers invite you to join us as we raise the banner of Presenting Sponsor for the upcoming WalkMS on May 7th at Comerica Park. Great things are happening in the field of research and treatment of this debilitating disease and our fundraising efforts directly impact the results and the speed at which treatment can reach those affected. Please hop onto the link below and join our Walk team or contribute to a Walker in support of the Michigan MSS. Be sure to share this opportunity with your colleagues\, friends and family. We are stronger together. \n[su_button url=”http://main.nationalmssociety.org/site/TR?fr_id=28517&pg=team&team_id=524110″ target=”blank” style=”flat” background=”#CC3F0F” size=”8″ wide=”yes” radius=”5″ class=”join-or-donate-button”]Join or Donate Today[/su_button]\n\n  \nOur goal—a world free of MS.\nWe’ve formed a team for Walk MS—a charity walk that is changing the lives of people with MS and helping fuel progress toward a world free of MS. We’d love your generous support as we prepare for this incredible experience. \n  \nMultiple sclerosis (MS) is an unpredictable\, often disabling disease of the central nervous system that disrupts the flow of information within the brain\, and between the brain and body. MS is different for everyone\, and that makes it all the more challenging to solve. The first Walk MS event was in 1988\, and since then more than $970 million has been raised for research and programs to improve the lives of people living with MS. Today\, there are treatments where there weren’t any before\, and the dream of ending MS is becoming a reality. But there is still so much to do. \n  \nThat’s why we’re walking. We’ve set an ambitious goal because we know with support from people like you\, we will have a great chance at reaching it. The money raised will drive groundbreaking research\, provide life-changing programs and guarantee a supportive community for those who need it most. This cause is really important to us\, so we hope you can do your part to help end MS forever. \nThank you for your generosity!
URL:https://reocharitablefoundation.org/event/1222/
LOCATION:Comerica Park\, 2100 Woodward Ave\, Detroit\, MI\, United States
END:VEVENT
BEGIN:VEVENT
DTSTART;TZID=America/Halifax:20170507T090000
DTEND;TZID=America/Halifax:20170507T120000
DTSTAMP:20260425T081841
CREATED:20170420T115751Z
LAST-MODIFIED:20170420T115751Z
UID:1224-1494147600-1494158400@reocharitablefoundation.org
SUMMARY:WALKMS May 7th at Comerica Park
DESCRIPTION:We’ve formed a team for Walk MS—a charity walk that is changing the lives of people with MS and helping fuel progress toward a world free of MS. We’d love your generous support as we prepare for this incredible experience. \nMultiple sclerosis (MS) is an unpredictable\, often disabling disease of the central nervous system that disrupts the flow of information within the brain\, and between the brain and body. MS is different for everyone\, and that makes it all the more challenging to solve. The first Walk MS event was in 1988\, and since then more than $970 million has been raised for research and programs to improve the lives of people living with MS. Today\, there are treatments where there weren’t any before\, and the dream of ending MS is becoming a reality. But there is still so much to do. \nThat’s why we’re walking. We’ve set an ambitious goal because we know with support from people like you\, we will have a great chance at reaching it. The money raised will drive groundbreaking research\, provide life-changing programs and guarantee a supportive community for those who need it most. This cause is really important to us\, so we hope you can do your part to help end MS forever. \nWill you help us reach our goal by donating what you can?REOCF Team Fundraising Page
URL:https://reocharitablefoundation.org/event/walkms-may-7th-at-comerica-park/
LOCATION:Comerica Park
END:VEVENT
BEGIN:VEVENT
DTSTART;TZID=America/Halifax:20170203T160000
DTEND;TZID=America/Halifax:20170203T190000
DTSTAMP:20260425T081841
CREATED:20170109T181824Z
LAST-MODIFIED:20170109T181824Z
UID:1205-1486137600-1486148400@reocharitablefoundation.org
SUMMARY:SUSHI Fundraiser to Benefit the MS Society
DESCRIPTION:
URL:https://reocharitablefoundation.org/event/sushi-fundraiser-to-benefit-the-ms-society/
LOCATION:Max Broock Bloomfield Hills\, 4130 Telegraph Road\, Bloomfield Hills\, MI\, 48302\, United States
END:VEVENT
BEGIN:VEVENT
DTSTART;TZID=America/Halifax:20170202T080000
DTEND;TZID=America/Halifax:20170202T170000
DTSTAMP:20260425T081841
CREATED:20161207T181139Z
LAST-MODIFIED:20170418T154204Z
UID:1192-1486022400-1486054800@reocharitablefoundation.org
SUMMARY:Polar Plunge 2017
DESCRIPTION:  \nYes\, indeed . . . the most wonderful time of the year (almost)!  Time to start planning your PLUNGE for 2017. You have plenty of time to raise tons of money and get the Biggest SPLASH for the bucks! Just use the EASY buttons below to register for your location. Remember\, most of your friends\, family\, colleagues\, neighbors\, strangers\, will simply give you $$ to alleviate their own guilty conscience because after your 30 second pitch\, they will realize that while you are willing to PLUNGE yourself into freezing water for a great cause\, they are willing to hand over some cash because they will be sitting in front of a warm cozy fire sipping on hot chocolate. \n  \nSchedule of Events\n[su_table]\n\n\n\nDate\nCity\nWebsite\n\n\nFebruary 4th\nTraverse City\n https://www.firstgiving.com/team/338851\n\n\nFebruary 11th\nDetroit\n https://www.firstgiving.com/team/338850 \n\n\nFebruary 24th\nAnn Arbor\n https://www.firstgiving.com/team/338583 (REOCF) \n http://www.firstgiving.com/team/338078 (CRC)\n\n\nFebruary 25th\nOakland County\nhttps://www.firstgiving.com/team/338853 \n\n\n\n[/su_table]
URL:https://reocharitablefoundation.org/event/polar-plunge-2017-2/
LOCATION:MI
END:VEVENT
BEGIN:VEVENT
DTSTART;VALUE=DATE:20170201
DTEND;VALUE=DATE:20170205
DTSTAMP:20260425T081841
CREATED:20161212T173350Z
LAST-MODIFIED:20161212T173350Z
UID:1196-1485907200-1486252799@reocharitablefoundation.org
SUMMARY:SOMI WINTER GAMES Feb. 1 - Feb. 3
DESCRIPTION:State Winter Games\npresented by Wertz Warriors \nFebruary 1-February 3\, 2017 in the greater Traverse City area. \nApproximately 900 athletes\, 350 coaches/chaperones & 500 volunteers participate every year. 919 athletes participated in the 2015 State Winter Games presented by Wertz Warriors\, which was the highest athlete turnout for the Winter Games since 2007.
URL:https://reocharitablefoundation.org/event/somi-winter-games-feb-1-feb-3/
LOCATION:Greater Traverse City Area
ATTACH;FMTTYPE=image/jpeg:https://reocharitablefoundation.org/wp-content/uploads/2016/12/CC-Crew16-e1481560134971.jpg
END:VEVENT
BEGIN:VEVENT
DTSTART;TZID=America/Halifax:20161023T130000
DTEND;TZID=America/Halifax:20161023T160000
DTSTAMP:20260425T081841
CREATED:20161003T135700Z
LAST-MODIFIED:20161014T174256Z
UID:1100-1477227600-1477238400@reocharitablefoundation.org
SUMMARY:Reinhart Halloween Maze
DESCRIPTION:  \n[give_form id=”1142″]\n \n \n \nSee flier for details:  halloween-maze-flier16 \n 
URL:https://reocharitablefoundation.org/event/reinhart-halloween-maze/
LOCATION:Reinhart Green Road\, 2200 Green Road\, Ste. A\, Ann Arbor\, 48105\, United States
END:VEVENT
BEGIN:VEVENT
DTSTART;TZID=UTC:20161015T170000
DTEND;TZID=UTC:20161015T210000
DTSTAMP:20260425T081841
CREATED:20160430T204002Z
LAST-MODIFIED:20160822T163032Z
UID:467-1476550800-1476565200@reocharitablefoundation.org
SUMMARY:Light the Night LLS
DESCRIPTION:Join or Donate \n 
URL:https://reocharitablefoundation.org/event/light-the-night-lls/
LOCATION:Memorial Park\, 13 Mile and Woodward\, Royal Oak\, MI\, United States
END:VEVENT
BEGIN:VEVENT
DTSTART;VALUE=DATE:20161001
DTEND;VALUE=DATE:20161002
DTSTAMP:20260425T081841
CREATED:20160430T201845Z
LAST-MODIFIED:20160822T162540Z
UID:466-1475280000-1475366399@reocharitablefoundation.org
SUMMARY:Walk to End Alzheimer's
DESCRIPTION:Join or Donate \n  \n 
URL:https://reocharitablefoundation.org/event/walk-to-end-alzheimers/
LOCATION:Comerica Park\, 2100 Woodward Ave\, Detroit\, MI\, United States
END:VEVENT
BEGIN:VEVENT
DTSTART;VALUE=DATE:20160923
DTEND;VALUE=DATE:20160926
DTSTAMP:20260425T081841
CREATED:20160430T193644Z
LAST-MODIFIED:20160430T201808Z
UID:463-1474588800-1474847999@reocharitablefoundation.org
SUMMARY:Special Olympics Michigan Fall Games
DESCRIPTION:For more information Contact:\njessary@realestateone.com
URL:https://reocharitablefoundation.org/event/special-olympics-michigan-fall-games/
LOCATION:Ann Arbor\, Ypsilanti\, Canton\, MI\, United States
END:VEVENT
BEGIN:VEVENT
DTSTART;TZID=UTC:20160917T080000
DTEND;TZID=UTC:20160917T120000
DTSTAMP:20260425T081841
CREATED:20160506T005016Z
LAST-MODIFIED:20160822T162719Z
UID:643-1474099200-1474113600@reocharitablefoundation.org
SUMMARY:Max Broock Realtors' Run on the Town
DESCRIPTION:Join
URL:https://reocharitablefoundation.org/event/maxbroock-realtors-run-on-the-town/
LOCATION:Booth Park\, 210 Harmon Street\, Birmingham\, MI\, 48009\, United States
ATTACH;FMTTYPE=image/jpeg:https://reocharitablefoundation.org/wp-content/uploads/2016/05/MaxBroockROTT.jpg
END:VEVENT
BEGIN:VEVENT
DTSTART;VALUE=DATE:20160910
DTEND;VALUE=DATE:20160911
DTSTAMP:20260425T081841
CREATED:20160430T192821Z
LAST-MODIFIED:20160430T192821Z
UID:461-1473465600-1473551999@reocharitablefoundation.org
SUMMARY:Bike MS: Great Lakes Fall Breakaway
DESCRIPTION:[su_button url=”http://main.nationalmssociety.org/site/TR?fr_id=27705&pg=team&team_id=473585″ background=”#6CACF4″ size=”8″ radius=”0″ icon=”icon: users”]Join or Donate[/su_button]
URL:https://reocharitablefoundation.org/event/bike-ms-great-lakes-fall-breakaway/
LOCATION:Island Lake Recreation Area\, 12950 East Grand River Avenue\, Brighton\, MI\, United States
END:VEVENT
BEGIN:VEVENT
DTSTART;VALUE=DATE:20160816
DTEND;VALUE=DATE:20160818
DTSTAMP:20260425T081841
CREATED:20160430T190749Z
LAST-MODIFIED:20160430T192354Z
UID:456-1471305600-1471478399@reocharitablefoundation.org
SUMMARY:Bike MS Great Lakes Mid-Michigan
DESCRIPTION:[su_button url=”http://main.nationalmssociety.org/site/TR?fr_id=27704&pg=team&team_id=473586″ background=”#6CACF4″ size=”8″ radius=”0″ icon=”icon: users”]Join or Donate[/su_button]
URL:https://reocharitablefoundation.org/event/bike-ms-great-lakes-mid-michigan/
LOCATION:Michigan State University\, 220 Trowbridge Rd\, East Lansing\, MI\, United States
END:VEVENT
BEGIN:VEVENT
DTSTART;VALUE=DATE:20160806
DTEND;VALUE=DATE:20160807
DTSTAMP:20260425T081841
CREATED:20160430T185517Z
LAST-MODIFIED:20160430T185517Z
UID:454-1470441600-1470527999@reocharitablefoundation.org
SUMMARY:MS Muckfest
DESCRIPTION:
URL:https://reocharitablefoundation.org/event/ms-muckfest/
LOCATION:Willow Metro Park\, New Boston\, MI\, United States
END:VEVENT
BEGIN:VEVENT
DTSTART;TZID=America/Halifax:20160622T080000
DTEND;TZID=America/Halifax:20160622T170000
DTSTAMP:20260425T081841
CREATED:20160608T135249Z
LAST-MODIFIED:20160608T135249Z
UID:828-1466582400-1466614800@reocharitablefoundation.org
SUMMARY:14th Annual Third Level Golf Classic
DESCRIPTION:
URL:https://reocharitablefoundation.org/event/14th-annual-third-level-golf-classic/
LOCATION:Elmbrook Golf Course\, 1750 Townline Road\, Traverse City\, MI\, 49686\, United States
END:VEVENT
BEGIN:VEVENT
DTSTART;TZID=UTC:20160614T080000
DTEND;TZID=UTC:20160614T170000
DTSTAMP:20260425T081841
CREATED:20160430T185106Z
LAST-MODIFIED:20160608T145656Z
UID:452-1465891200-1465923600@reocharitablefoundation.org
SUMMARY:12th Annual Screen Door Open "fore" Special Olympics Michigan
DESCRIPTION:
URL:https://reocharitablefoundation.org/event/12th-annual-screen-door-open-fore-somi/
LOCATION:Northville Hills Golf Club\, 15565 Bay Hill Drive\, Northville\, MI\, 48168\, United States
END:VEVENT
BEGIN:VEVENT
DTSTART;VALUE=DATE:20160602
DTEND;VALUE=DATE:20160605
DTSTAMP:20260425T081841
CREATED:20160430T183534Z
LAST-MODIFIED:20160810T183415Z
UID:450-1464825600-1465084799@reocharitablefoundation.org
SUMMARY:Special Olympics Michigan Summer Games
DESCRIPTION:
URL:https://reocharitablefoundation.org/event/special-olympics-michigan-summer-games/
LOCATION:Central Michigan Univeristy\, 200 S Franklin St\, Mt Pleasant\, MI\, United States
END:VEVENT
BEGIN:VEVENT
DTSTART;TZID=UTC:20160430T080000
DTEND;TZID=UTC:20160430T170000
DTSTAMP:20260425T081841
CREATED:20160430T172230Z
LAST-MODIFIED:20160430T183036Z
UID:448-1462003200-1462035600@reocharitablefoundation.org
SUMMARY:Walk MS
DESCRIPTION:Join or Donate
URL:https://reocharitablefoundation.org/event/walk-ms/
LOCATION:Comerica Park\, 2100 Woodward Ave\, Detroit\, MI\, United States
ATTACH;FMTTYPE=image/png:https://reocharitablefoundation.org/wp-content/uploads/2016/04/Walk-MS-icon.png
END:VEVENT
END:VCALENDAR