BEGIN:VCALENDAR
VERSION:2.0
PRODID:-//Our Family of Charitable Foundations - ECPv6.13.2.1//NONSGML v1.0//EN
CALSCALE:GREGORIAN
METHOD:PUBLISH
X-WR-CALNAME:Our Family of Charitable Foundations
X-ORIGINAL-URL:https://reocharitablefoundation.org
X-WR-CALDESC:Events for Our Family of Charitable Foundations
REFRESH-INTERVAL;VALUE=DURATION:PT1H
X-Robots-Tag:noindex
X-PUBLISHED-TTL:PT1H
BEGIN:VTIMEZONE
TZID:America/Halifax
BEGIN:DAYLIGHT
TZOFFSETFROM:-0400
TZOFFSETTO:-0300
TZNAME:ADT
DTSTART:20220313T060000
END:DAYLIGHT
BEGIN:STANDARD
TZOFFSETFROM:-0300
TZOFFSETTO:-0400
TZNAME:AST
DTSTART:20221106T050000
END:STANDARD
BEGIN:DAYLIGHT
TZOFFSETFROM:-0400
TZOFFSETTO:-0300
TZNAME:ADT
DTSTART:20230312T060000
END:DAYLIGHT
BEGIN:STANDARD
TZOFFSETFROM:-0300
TZOFFSETTO:-0400
TZNAME:AST
DTSTART:20231105T050000
END:STANDARD
BEGIN:DAYLIGHT
TZOFFSETFROM:-0400
TZOFFSETTO:-0300
TZNAME:ADT
DTSTART:20240310T060000
END:DAYLIGHT
BEGIN:STANDARD
TZOFFSETFROM:-0300
TZOFFSETTO:-0400
TZNAME:AST
DTSTART:20241103T050000
END:STANDARD
END:VTIMEZONE
BEGIN:VEVENT
DTSTART;TZID=America/Halifax:20241203T033000
DTEND;TZID=America/Halifax:20241203T190000
DTSTAMP:20260423T161201
CREATED:20241121T172815Z
LAST-MODIFIED:20241121T173341Z
UID:2036-1733196600-1733252400@reocharitablefoundation.org
SUMMARY:Giving Tuesday Photos with Santa Paws
DESCRIPTION:
URL:https://reocharitablefoundation.org/event/giving-tuesday-pictures-with-mrs-claus/
LOCATION:Reinhart North\, 2200 Green Road\, Ann Arbor
ATTACH;FMTTYPE=application/pdf:https://reocharitablefoundation.org/wp-content/uploads/2024/11/GT24SantaNorth.pdf
END:VEVENT
BEGIN:VEVENT
DTSTART;TZID=America/Halifax:20241202T080000
DTEND;TZID=America/Halifax:20241203T170000
DTSTAMP:20260423T161201
CREATED:20241202T154807Z
LAST-MODIFIED:20241202T154807Z
UID:2047-1733126400-1733245200@reocharitablefoundation.org
SUMMARY:Giving Back Cereal Drive
DESCRIPTION:
URL:https://reocharitablefoundation.org/event/giving-back-cereal-drive/
LOCATION:Randolph Office\, 521 Randolph Street\, Traverse City\, 49684
ATTACH;FMTTYPE=image/jpeg:https://reocharitablefoundation.org/wp-content/uploads/2024/12/GTRandolph1224.jpg
END:VEVENT
BEGIN:VEVENT
DTSTART;TZID=America/Halifax:20241121T080000
DTEND;TZID=America/Halifax:20241126T170000
DTSTAMP:20260423T161201
CREATED:20241121T163910Z
LAST-MODIFIED:20241121T163910Z
UID:2021-1732176000-1732640400@reocharitablefoundation.org
SUMMARY:Early Bird GIVING TUESDAY Apple Pies and Cinnamon Rolls
DESCRIPTION:
URL:https://reocharitablefoundation.org/event/early-bird-giving-tuesday-apple-pies-and-cinnamon-rolls/
LOCATION:Reinhart Chelsea Office\, 800 S. Main Street\, Chelsea
ATTACH;FMTTYPE=application/pdf:https://reocharitablefoundation.org/wp-content/uploads/2024/11/GT24ChelseePies.pdf
END:VEVENT
BEGIN:VEVENT
DTSTART;TZID=America/Halifax:20241108T173000
DTEND;TZID=America/Halifax:20241108T220000
DTSTAMP:20260423T161201
CREATED:20241029T143805Z
LAST-MODIFIED:20241029T144303Z
UID:1995-1731087000-1731103200@reocharitablefoundation.org
SUMMARY:Compassionate Feast for Huron Valley Humane Society
DESCRIPTION:https://www.hshv.org/feast/
URL:https://reocharitablefoundation.org/event/compassionate-feast/
LOCATION:St. John’s Resort\, 44045 Five Mile Rd.\, Plymouth
ATTACH;FMTTYPE=image/png:https://reocharitablefoundation.org/wp-content/uploads/2024/10/Screenshot-2024-10-08-at-2.03.25 PM.png
END:VEVENT
BEGIN:VEVENT
DTSTART;TZID=America/Halifax:20241107T193000
DTEND;TZID=America/Halifax:20241107T223000
DTSTAMP:20260423T161201
CREATED:20241029T143332Z
LAST-MODIFIED:20241029T143332Z
UID:1992-1731007800-1731018600@reocharitablefoundation.org
SUMMARY:DOGSTRAVAGANZA
DESCRIPTION:  \nThe funds raised from Dogstravaganza will support our shelter operations\, including shelter improvements\, volunteer programs\, our humane education program\, and the costs of taking in animals to the shelter. We are a high-save shelter\, meaning we do not give our animals an end date. Your support will help us continue to provide a safe haven for animals in need. \n\nTickets available NOW! \nhttps://humanesocietyofmacomb.org/dogstravaganza/
URL:https://reocharitablefoundation.org/event/dogstravaganza/
LOCATION:Palazzo Grande\, 54660 Van Dyke Ave\, Shelby Twp
ATTACH;FMTTYPE=image/png:https://reocharitablefoundation.org/wp-content/uploads/2024/10/Screenshot-2024-10-08-at-1.58.56 PM.png
END:VEVENT
BEGIN:VEVENT
DTSTART;TZID=America/Halifax:20241102T080000
DTEND;TZID=America/Halifax:20241102T120000
DTSTAMP:20260423T161201
CREATED:20241029T142516Z
LAST-MODIFIED:20241029T155452Z
UID:1985-1730534400-1730548800@reocharitablefoundation.org
SUMMARY:Walk to End Alzheimer's
DESCRIPTION:Saturday\, November 2nd \nDetroit Zoo \n7:30 a.m. Registration \n9:00 a.m. Opening Ceremony \nREOCF Team \nhttp://act.alz.org/goto/REOCF24 \nCommerce Team \nhttps://act.alz.org/site/TR/Walk2024/MI-GreaterMichigan?team_id=903230&pg=team&fr_id=17682 \nSouthgate Team \nhttps://act.alz.org/site/TR/Walk2024/MI-GreaterMichigan?team_id=856272&pg=team&fr_id=17682 \n  \n 
URL:https://reocharitablefoundation.org/event/walk-to-end-alzheimers-4/
LOCATION:Detroit Zoo
ATTACH;FMTTYPE=image/png:https://reocharitablefoundation.org/wp-content/uploads/2022/08/walk-to-end-alzheimers.png
END:VEVENT
BEGIN:VEVENT
DTSTART;TZID=America/Halifax:20241101T080000
DTEND;TZID=America/Halifax:20241130T170000
DTSTAMP:20260423T161201
CREATED:20241029T182119Z
LAST-MODIFIED:20241029T182448Z
UID:2010-1730448000-1732986000@reocharitablefoundation.org
SUMMARY:Coat Drive REO & Max Broock Offices Oakland County
DESCRIPTION:Oakland County Sheriff’s Office 37th Annual Coat’s for the Cold Coat Drive \nReal Estate One and Max Broock offices throughout Oakland County have volunteered to serve as drop off locations in support of the Oakland County Sheriff’s Office Annual Coats for the Cold Coat Drive. The drive will run from November 1st through the 30th. \n 
URL:https://reocharitablefoundation.org/event/coat-drive-reo-max-broock-offices-oakland-county/
ATTACH;FMTTYPE=image/png:https://reocharitablefoundation.org/wp-content/uploads/2024/10/Screenshot-2024-10-29-at-2.19.14 PM.png
END:VEVENT
BEGIN:VEVENT
DTSTART;TZID=America/Halifax:20241101T080000
DTEND;TZID=America/Halifax:20241130T170000
DTSTAMP:20260423T161201
CREATED:20241029T174444Z
LAST-MODIFIED:20241029T180929Z
UID:1999-1730448000-1732986000@reocharitablefoundation.org
SUMMARY:28th Annual Reinhart Coat Drive in November
DESCRIPTION:November 1st is the official start of the Reinhart Coat Drive and we are celebrating our 28th year! \n \nDuring the month of November\, you may bring your new or gently used coats to any Reinhart Sunday Open House or to any Reinhart sales office. \n \n Over the Coat Drive’s 27 year history\, Reinhart has collected more than 31\,400 coats\, all of which have been donated to agencies in our community. The need for winter coats\, especially for children and plus size adults\, continues to be great. \n \n The 28th Annual Reinhart Coat Drive hopes to help fill that need in our community as the weather gets colder. Warming hearts – one coat at a time.
URL:https://reocharitablefoundation.org/event/28th-annual-reinhart-coat-drive-in-november/
ATTACH;FMTTYPE=image/png:https://reocharitablefoundation.org/wp-content/uploads/2024/10/Screenshot-2024-10-29-at-1.04.12 PM.png
END:VEVENT
BEGIN:VEVENT
DTSTART;VALUE=DATE:20240928
DTEND;VALUE=DATE:20240929
DTSTAMP:20260423T161201
CREATED:20240924T161122Z
LAST-MODIFIED:20240924T161414Z
UID:1963-1727481600-1727567999@reocharitablefoundation.org
SUMMARY:SOMI State Fall Games: Soccer
DESCRIPTION:Saturday\, September 28\n@ Independence Park – Canton\nTentative Time: 7:30am-5:00pm (half-day shifts available)\nVolunteer Roles include: ball retrievers\, scorekeepers\, meals/water assistance\, referees (as long as you have previous referee experience)\n\nJoin us in making an impact on the lives of hundreds of Michiganders with intellectual disabilities from all across the state\, who will be gathering in Southeast Michigan for the culminating celebrations of their selected individual or team sport:
URL:https://reocharitablefoundation.org/event/somi-state-fall-games-soccer-2/
LOCATION:Independence Park\, 1898 Denton Rd\, Canton\, MI\, 48188\, United States
ATTACH;FMTTYPE=image/jpeg:https://reocharitablefoundation.org/wp-content/uploads/2023/08/soccer.jpg
END:VEVENT
BEGIN:VEVENT
DTSTART;VALUE=DATE:20240927
DTEND;VALUE=DATE:20240928
DTSTAMP:20260423T161201
CREATED:20240924T161356Z
LAST-MODIFIED:20240924T161356Z
UID:1964-1727395200-1727481599@reocharitablefoundation.org
SUMMARY:SOMI State Fall Games: Golf
DESCRIPTION:Friday\, September 27\n@ Eagle Crest Golf Course\, Ypsilanti\nTentative Time: 7:30am-5:00pm (half-day shifts available)\n\nJoin us in making an impact on the lives of hundreds of Michiganders with intellectual disabilities from all across the state\, who will be gathering in Southeast Michigan for the culminating celebrations of their selected individual or team sport.
URL:https://reocharitablefoundation.org/event/somi-state-fall-games-golf-2/
LOCATION:Eagle Crest Resort\, 1275 S Huron St\, Ypsilanti\, MI\, 48197\, United States
ATTACH;FMTTYPE=image/png:https://reocharitablefoundation.org/wp-content/uploads/2023/08/golf.png
END:VEVENT
BEGIN:VEVENT
DTSTART;TZID=America/Halifax:20240926T173000
DTEND;TZID=America/Halifax:20240926T213000
DTSTAMP:20260423T161201
CREATED:20240924T162418Z
LAST-MODIFIED:20240924T162418Z
UID:1967-1727371800-1727386200@reocharitablefoundation.org
SUMMARY:Euchre Tournament for Walk to End Alzheimer's
DESCRIPTION:
URL:https://reocharitablefoundation.org/event/euchre-tournament-for-walk-to-end-alzheimers/
ATTACH;FMTTYPE=application/pdf:https://reocharitablefoundation.org/wp-content/uploads/2024/09/Euchre-Night-for-Alzheimers.pdf
END:VEVENT
BEGIN:VEVENT
DTSTART;TZID=America/Halifax:20240926T053000
DTEND;TZID=America/Halifax:20240926T210000
DTSTAMP:20260423T161201
CREATED:20240924T165812Z
LAST-MODIFIED:20240924T165812Z
UID:1971-1727328600-1727384400@reocharitablefoundation.org
SUMMARY:LLS Light the Night Walk
DESCRIPTION:  \n 
URL:https://reocharitablefoundation.org/event/lls-light-the-night-walk/
LOCATION:Corner Ball Park\, 1680 Michigan Avenue\, Detroit\, MI\, 48216\, United States
ATTACH;FMTTYPE=image/jpeg:https://reocharitablefoundation.org/wp-content/uploads/2024/09/images.jpeg
END:VEVENT
BEGIN:VEVENT
DTSTART;TZID=America/Halifax:20240921T090000
DTEND;TZID=America/Halifax:20240921T120000
DTSTAMP:20260423T161201
CREATED:20240924T161948Z
LAST-MODIFIED:20240924T163743Z
UID:1965-1726909200-1726920000@reocharitablefoundation.org
SUMMARY:Eastside Fun Run 5k to benefit Special Olympics Michigan
DESCRIPTION:  \nhttps://support.reocharitablefoundation.org/EastSideFunRun24
URL:https://reocharitablefoundation.org/event/eastside-fun-run-5k-to-benefit-special-olympics-michigan/
LOCATION:DOGE PARK\, 40620 Utica Rd.\, Sterling Heights\, 48313\, United States
ATTACH;FMTTYPE=image/png:https://reocharitablefoundation.org/wp-content/uploads/2024/09/Fall-Fun-Run24-2.png
END:VEVENT
BEGIN:VEVENT
DTSTART;TZID=America/Halifax:20231110T080000
DTEND;TZID=America/Halifax:20231110T140000
DTSTAMP:20260423T161201
CREATED:20230807T184903Z
LAST-MODIFIED:20230807T203224Z
UID:1940-1699603200-1699624800@reocharitablefoundation.org
SUMMARY:SOMI State Fall Games: Unified Bowling*
DESCRIPTION:Friday\, November 10\n@ Century Bowl – Waterford\nTentative Time: 8:00am-2:00pm\nVolunteer Roles include: lane assistance (shoe help\, ball selection\, monitoring + socializing w/ the athletes)\, awards area / score crunchers\, lunch helpers\n*Unified Bowling means that this tournament will be a “doubles” tournament with one person in the pair being a Special Olympics Athlete\, and the other being a “Unified Partner”\n\nJoin us in making an impact on the lives of hundreds of Michiganders with intellectual disabilities from all across the state\, who will be gathering in Southeast Michigan for the culminating celebrations of their selected individual or team sport:\nDownload the Special Olympics Michigan Fall schedule & full details here \n 
URL:https://reocharitablefoundation.org/event/somi-state-fall-games-unified-bowling/
LOCATION:Century Bowl – Waterford\, 7345 Highland Rd\, Waterford Twp\, MI\, 48327\, United States
ATTACH;FMTTYPE=image/jpeg:https://reocharitablefoundation.org/wp-content/uploads/2023/08/image-from-rawpixel-id-5917993-jpeg.jpg
END:VEVENT
BEGIN:VEVENT
DTSTART;VALUE=DATE:20231110
DTEND;VALUE=DATE:20231111
DTSTAMP:20260423T161201
CREATED:20230807T172328Z
LAST-MODIFIED:20230807T202815Z
UID:1937-1699574400-1699660799@reocharitablefoundation.org
SUMMARY:SOMI State Fall Games: Flag Football
DESCRIPTION:Friday\, November 10\n@ UWM Sports Complex – Pontiac\nTentative Time: TBD; All Day (half-day shifts available)\nVolunteer Roles include: scorekeepers\, ball retrievers\, meals/water assistance\, awards tent/score crunchers\, lunch helpers.\n\nJoin us in making an impact on the lives of hundreds of Michiganders with intellectual disabilities from all across the state\, who will be gathering in Southeast Michigan for the culminating celebrations of their selected individual or team sport:\nDownload the Special Olympics Michigan Fall schedule & full details here
URL:https://reocharitablefoundation.org/event/somi-state-fall-games-flag-football/
LOCATION:UWM Sports Complex – Pontiac\, 867 S Blvd E\, Pontiac\, MI\, 48341\, United States
ATTACH;FMTTYPE=image/jpeg:https://reocharitablefoundation.org/wp-content/uploads/2023/08/GettyImages-172257743.jpg
END:VEVENT
BEGIN:VEVENT
DTSTART;VALUE=DATE:20231110
DTEND;VALUE=DATE:20231111
DTSTAMP:20260423T161201
CREATED:20230807T164046Z
LAST-MODIFIED:20230807T202634Z
UID:1932-1699574400-1699660799@reocharitablefoundation.org
SUMMARY:SOMI State Poly Hockey (Floor Hockey)
DESCRIPTION:Presented by: Water Warriors\nFriday\, November 10\n@ UWM Sports Complex – Pontiac\nTentative Time: TBD; All Day (half-day shifts available)\nVolunteer Roles include: scorekeepers\, awards tent / score crunchers\, lunch helpers.\n\nJoin us in making an impact on the lives of hundreds of Michiganders with intellectual disabilities from all across the state\, who will be gathering in Southeast Michigan for the culminating celebrations of their selected individual or team sport:\nDownload the Special Olympics Michigan Fall schedule & full details here
URL:https://reocharitablefoundation.org/event/somi-state-poly-hockey-floor-hockey/
LOCATION:UWM Sports Complex – Pontiac\, 867 S Blvd E\, Pontiac\, MI\, 48341\, United States
ATTACH;FMTTYPE=image/jpeg:https://reocharitablefoundation.org/wp-content/uploads/2023/08/GettyImages-87733970-2.jpg
END:VEVENT
BEGIN:VEVENT
DTSTART;TZID=America/Halifax:20230923T073000
DTEND;TZID=America/Halifax:20230923T170000
DTSTAMP:20260423T161201
CREATED:20230807T163756Z
LAST-MODIFIED:20230807T202343Z
UID:1929-1695454200-1695488400@reocharitablefoundation.org
SUMMARY:SOMI State Fall Games: Soccer
DESCRIPTION:Saturday\, September 23\n@ Independence Park – Canton\nTentative Time: 7:30am-5:00pm (half-day shifts available)\nVolunteer Roles include: ball retrievers\, scorekeepers\, meals/water assistance\, referees (as long as you have previous referee experience)\n\nJoin us in making an impact on the lives of hundreds of Michiganders with intellectual disabilities from all across the state\, who will be gathering in Southeast Michigan for the culminating celebrations of their selected individual or team sport:\nDownload the Special Olympics Michigan Fall schedule & full details here
URL:https://reocharitablefoundation.org/event/somi-state-fall-games-soccer/
LOCATION:Independence Park\, 1898 Denton Rd\, Canton\, MI\, 48188\, United States
ATTACH;FMTTYPE=image/jpeg:https://reocharitablefoundation.org/wp-content/uploads/2023/08/soccer.jpg
END:VEVENT
BEGIN:VEVENT
DTSTART;TZID=America/Halifax:20230923T073000
DTEND;TZID=America/Halifax:20230923T140000
DTSTAMP:20260423T161201
CREATED:20230807T163408Z
LAST-MODIFIED:20230807T163408Z
UID:1926-1695454200-1695477600@reocharitablefoundation.org
SUMMARY:SOMI State Fall Games: Golf
DESCRIPTION:Presented by: Amerisure\nFriday\, September 22\n@ Eagle Crest Golf Course – Ypsilanti\nTentative Time: 7:30am-2:00pm\nVolunteer Roles include: golf cart drivers\, course volunteers\, skills station workers\, awards tent/score crunchers\, lunch helpers.\n\nJoin us in making an impact on the lives of hundreds of Michiganders with intellectual disabilities from all across the state\, who will be gathering in Southeast Michigan for the culminating celebrations of their selected individual or team sport:\nDownload the Special Olympics Michigan Fall schedule & full details here
URL:https://reocharitablefoundation.org/event/somi-state-fall-games-golf/
LOCATION:Eagle Crest Resort\, 1275 S Huron St\, Ypsilanti\, MI\, 48197\, United States
ATTACH;FMTTYPE=image/png:https://reocharitablefoundation.org/wp-content/uploads/2023/08/golf.png
END:VEVENT
BEGIN:VEVENT
DTSTART;TZID=America/Halifax:20230922T073000
DTEND;TZID=America/Halifax:20230922T140000
DTSTAMP:20260423T161201
CREATED:20230807T171421Z
LAST-MODIFIED:20230807T171421Z
UID:1934-1695367800-1695391200@reocharitablefoundation.org
SUMMARY:SOMI State Fall Games: Kayaking
DESCRIPTION:Friday\, September 22\n@ Eastern Michigan Univ. Boathouse – Ypsilanti\nTentative Time: 7:30am-2:00pm\nVolunteer Roles include: Athlete assistance\, score crunchers (limited volunteer roles @ this site)\n\nJoin us in making an impact on the lives of hundreds of Michiganders with intellectual disabilities from all across the state\, who will be gathering in Southeast Michigan for the culminating celebrations of their selected individual or team sport:\nDownload the Special Olympics Michigan Fall schedule & full details here
URL:https://reocharitablefoundation.org/event/somi-state-fall-games-kayaking/
LOCATION:Eastern Michigan Univ. Boathouse – Ypsilanti\, 10049 Textile Rd\, Ypsilanti Charter Twp\, MI\, 48197\, United States
ATTACH;FMTTYPE=image/jpeg:https://reocharitablefoundation.org/wp-content/uploads/2023/08/kayak.jpg
END:VEVENT
BEGIN:VEVENT
DTSTART;TZID=America/Halifax:20230825T083000
DTEND;TZID=America/Halifax:20230825T170000
DTSTAMP:20260423T161201
CREATED:20230807T162605Z
LAST-MODIFIED:20230807T162605Z
UID:1921-1692952200-1692982800@reocharitablefoundation.org
SUMMARY:SOMI State Fall Games: Softball
DESCRIPTION:Presented by: Amerisure\nFriday\, August 25\n@ Canton Softball Complex\nTentative Time: 8:30am-5:00pm (half-day shifts available)\nVolunteer Roles include: score keepers\, ball retrievers\, announcer\, meals/water assistance and skills station workers.\n\nJoin us in making an impact on the lives of hundreds of Michiganders with intellectual disabilities from all across the state\, who will be gathering in Southeast Michigan for the culminating celebrations of their selected individual or team sport:\nDownload the Special Olympics Michigan Fall schedule & full details here
URL:https://reocharitablefoundation.org/event/somi-state-fall-games-softball/
LOCATION:Canton Softball Complex\, 46555 Michigan Ave\, Canton\, MI\, 48188\, United States
ATTACH;FMTTYPE=image/jpeg:https://reocharitablefoundation.org/wp-content/uploads/2023/08/image-from-rawpixel-id-5958431-jpeg-1.jpg
END:VEVENT
BEGIN:VEVENT
DTSTART;TZID=America/Halifax:20230821T100000
DTEND;TZID=America/Halifax:20230821T170000
DTSTAMP:20260423T161201
CREATED:20230807T185200Z
LAST-MODIFIED:20230807T185213Z
UID:1942-1692612000-1692637200@reocharitablefoundation.org
SUMMARY:Golf for the Forgotten Harvest
DESCRIPTION:
URL:https://reocharitablefoundation.org/event/forgotten-harvest-charity-bowling/
LOCATION:Gowanie Golf Club\, 24770 S. River Rd. \, Harrison Twp.\, MI\, 48045\, United States
ATTACH;FMTTYPE=image/png:https://reocharitablefoundation.org/wp-content/uploads/2023/08/charityposter3.png
END:VEVENT
BEGIN:VEVENT
DTSTART;TZID=America/Halifax:20230807T073000
DTEND;TZID=America/Halifax:20230807T160000
DTSTAMP:20260423T161201
CREATED:20230807T181005Z
LAST-MODIFIED:20230807T181005Z
UID:1938-1691393400-1691424000@reocharitablefoundation.org
SUMMARY:SOMI State Fall Games: Cycling
DESCRIPTION:Saturday\, September 23\n@ Chrysler Proving Grounds – Chelsea\nTentative Time: 7:30am-4:00pm\nVolunteer Roles include: lane assistance & course volunteers\, awards tent / score crunchers\, lunch helpers.\n\nJoin us in making an impact on the lives of hundreds of Michiganders with intellectual disabilities from all across the state\, who will be gathering in Southeast Michigan for the culminating celebrations of their selected individual or team sport:\nDownload the Special Olympics Michigan Fall schedule & full details here
URL:https://reocharitablefoundation.org/event/somi-state-fall-games-cycling/
LOCATION:Chrysler Proving Grounds – Chelsea\, 3700 S Mi State Rd 52\, Chelsea\, MI\, 48118\, United States
END:VEVENT
BEGIN:VEVENT
DTSTART;VALUE=DATE:20230311
DTEND;VALUE=DATE:20230312
DTSTAMP:20260423T161201
CREATED:20230120T223943Z
LAST-MODIFIED:20230120T223943Z
UID:1909-1678492800-1678579199@reocharitablefoundation.org
SUMMARY:Grand Traverse Special Olympics Michigan Polar Plunge/5K
DESCRIPTION:In response to supporter feedback and in an effort to provide greater opportunities for participation\, this year our fundraisers have 4 ways in which they can support the athletes. \nSupporters can join a Plunge team at any of the locations below or as a virtual plunger. Those averse to being wet and cold are also invited to fundraise as a “Too Chicken to Plunge” supporter. Those who prefer to remain dry are welcome to register for the Frozen 5K. \nRegistration for any of the four options is available through the links below. \n\n\nPlunger \n\n\nToo Chicken to Plunge \n\n\nVirtual Plunger \n\n\nFrozen 5K (free registration discount code REOCF) \n\n\nGrand Traverse: Sat\, March 11 @ Visions Banquet Center \nhttps://give.classy.org/REO-GrandTraverse2023
URL:https://reocharitablefoundation.org/event/grand-traverse-special-olympics-michigan-polar-plunge-5k/
ATTACH;FMTTYPE=image/png:https://reocharitablefoundation.org/wp-content/uploads/2023/01/Poloar-plunge.png
END:VEVENT
BEGIN:VEVENT
DTSTART;VALUE=DATE:20230303
DTEND;VALUE=DATE:20230304
DTSTAMP:20260423T161201
CREATED:20230120T223841Z
LAST-MODIFIED:20230120T224122Z
UID:1908-1677801600-1677887999@reocharitablefoundation.org
SUMMARY:Detroit Special Olympics Michigan Polar Plunge/5K
DESCRIPTION:In response to supporter feedback and in an effort to provide greater opportunities for participation\, this year our fundraisers have 4 ways in which they can support the athletes. \nSupporters can join a Plunge team at any of the locations below or as a virtual plunger. Those averse to being wet and cold are also invited to fundraise as a “Too Chicken to Plunge” supporter. Those who prefer to remain dry are welcome to register for the Frozen 5K. \nRegistration for any of the four options is available through the links below. \n\n\nPlunger \n\n\nToo Chicken to Plunge \n\n\nVirtual Plunger \n\n\nFrozen 5K (free registration discount code REOCF) \n\n\nDetroit: Fri\, March 3 @ Windmill Pointe Park \nhttps://give.classy.org/REO-Detroit2023
URL:https://reocharitablefoundation.org/event/detroit-special-olympics-michigan-polar-plunge-5k/
ATTACH;FMTTYPE=image/png:https://reocharitablefoundation.org/wp-content/uploads/2023/01/Poloar-plunge.png
END:VEVENT
BEGIN:VEVENT
DTSTART;VALUE=DATE:20230218
DTEND;VALUE=DATE:20230219
DTSTAMP:20260423T161201
CREATED:20230120T223734Z
LAST-MODIFIED:20230120T223734Z
UID:1906-1676678400-1676764799@reocharitablefoundation.org
SUMMARY:Macomb Special Olympics Michigan Polar Plunge/5K
DESCRIPTION:In response to supporter feedback and in an effort to provide greater opportunities for participation\, this year our fundraisers have 4 ways in which they can support the athletes. \nSupporters can join a Plunge team at any of the locations below or as a virtual plunger. Those averse to being wet and cold are also invited to fundraise as a “Too Chicken to Plunge” supporter. Those who prefer to remain dry are welcome to register for the Frozen 5K. \nRegistration for any of the four options is available through the link below. \n\n\nPlunger \n\n\nToo Chicken to Plunge \n\n\nVirtual Plunger \n\n\nFrozen 5K (free registration discount code REOCF) \n\n\n  \nMacomb: Sat\, Feb. 18 @ MacRay Harbor \nhttps://give.classy.org/REO-Macomb2023
URL:https://reocharitablefoundation.org/event/macomb-special-olympics-michigan-polar-plunge-5k/
LOCATION:McRay Harbor
ATTACH;FMTTYPE=image/png:https://reocharitablefoundation.org/wp-content/uploads/2023/01/Poloar-plunge.png
END:VEVENT
BEGIN:VEVENT
DTSTART;VALUE=DATE:20230211
DTEND;VALUE=DATE:20230212
DTSTAMP:20260423T161201
CREATED:20230120T222929Z
LAST-MODIFIED:20230120T223442Z
UID:1904-1676073600-1676159999@reocharitablefoundation.org
SUMMARY:Ann Arbor Special Olympics Michigan Polar Plunge/5K (Reinhart
DESCRIPTION:In response to supporter feedback and in an effort to provide greater opportunities for participation\, this year our fundraisers have 4 ways in which they can support the athletes. \nSupporters can join a Plunge team at any of the locations below or as a virtual plunger. Those averse to being wet and cold are also invited to fundraise as a “Too Chicken to Plunge” supporter. Those who prefer to remain dry are welcome to register for the Frozen 5K. \nRegistration for any of the four options is available through the links below. \n\n\nPlunger \n\n\nToo Chicken to Plunge \n\n\nVirtual Plunger \n\n\nFrozen 5K (free registration discount code REOCF) \n\n\nAnn Arbor: Sat\, Feb. 11 @ HOMES Brewery \nReinhart: https://give.classy.org/Reinhart-AnnArbor2023 \nREO: https://give.classy.org/REO-AnnArbor2023
URL:https://reocharitablefoundation.org/event/ann-arbor-special-olympics-michigan-polar-plunge-5k-reinhart/
ATTACH;FMTTYPE=image/png:https://reocharitablefoundation.org/wp-content/uploads/2023/01/Poloar-plunge.png
END:VEVENT
BEGIN:VEVENT
DTSTART;VALUE=DATE:20230204
DTEND;VALUE=DATE:20230205
DTSTAMP:20260423T161201
CREATED:20230120T224038Z
LAST-MODIFIED:20230120T224056Z
UID:1910-1675468800-1675555199@reocharitablefoundation.org
SUMMARY:Oakland Special Olympics Michigan Polar Plunge/5K
DESCRIPTION:In response to supporter feedback and in an effort to provide greater opportunities for participation\, this year our fundraisers have 4 ways in which they can support the athletes. \nSupporters can join a Plunge team at any of the locations below or as a virtual plunger. Those averse to being wet and cold are also invited to fundraise as a “Too Chicken to Plunge” supporter. Those who prefer to remain dry are welcome to register for the Frozen 5K. \nRegistration for any of the four options is available through the links below. \n\n\nPlunger \n\n\nToo Chicken to Plunge \n\n\nVirtual Plunger \n\n\nFrozen 5K (free registration discount code REOCF) \n\n\n Oakland: Sat\, Feb. 4 @ Walled Lake Tiki Beach Bar \nhttps://give.classy.org/REO-Oakland2023
URL:https://reocharitablefoundation.org/event/oakland-special-olympics-michigan-polar-plunge-5k/
ATTACH;FMTTYPE=image/png:https://reocharitablefoundation.org/wp-content/uploads/2023/01/Poloar-plunge.png
END:VEVENT
BEGIN:VEVENT
DTSTART;TZID=America/Halifax:20230203T163000
DTEND;TZID=America/Halifax:20230203T193000
DTSTAMP:20260423T161201
CREATED:20230131T153921Z
LAST-MODIFIED:20230131T155010Z
UID:1912-1675441800-1675452600@reocharitablefoundation.org
SUMMARY:LET THE GOOD TIMES ROLL
DESCRIPTION:http://evite.me/xP9tKfEk1P \n 
URL:https://reocharitablefoundation.org/event/let-the-good-times-roll/
LOCATION:Max Broock Bloomfield Hills\, 4130 Telegraph\, Blooomfield Hills\, 48302
ATTACH;FMTTYPE=image/png:https://reocharitablefoundation.org/wp-content/uploads/2023/01/Screen-Shot-2023-01-05-at-4.05.31-PM.png
END:VEVENT
BEGIN:VEVENT
DTSTART;TZID=America/Halifax:20221203T183000
DTEND;TZID=America/Halifax:20221203T210000
DTSTAMP:20260423T161201
CREATED:20221122T125439Z
LAST-MODIFIED:20221122T131614Z
UID:1855-1670092200-1670101200@reocharitablefoundation.org
SUMMARY:Celebration of Lives
DESCRIPTION:https://support.reocharitablefoundation.org/Celebration22
URL:https://reocharitablefoundation.org/event/celebration-of-lives/
ATTACH;FMTTYPE=image/png:https://reocharitablefoundation.org/wp-content/uploads/2022/11/Screen-Shot-2022-11-22-at-6.53.45-AM.png
END:VEVENT
BEGIN:VEVENT
DTSTART;TZID=America/Halifax:20221129T190000
DTEND;TZID=America/Halifax:20221129T210000
DTSTAMP:20260423T161201
CREATED:20221122T123202Z
LAST-MODIFIED:20221122T185308Z
UID:1851-1669748400-1669755600@reocharitablefoundation.org
SUMMARY:Reinhart East Giving Tuesday Trivia Night
DESCRIPTION:https://support.reocharitablefoundation.org/trivianight22
URL:https://reocharitablefoundation.org/event/reinhart-east-giving-tuesday-trivia-night/
ATTACH;FMTTYPE=application/pdf:https://reocharitablefoundation.org/wp-content/uploads/2022/11/Trivia-Night-202239.pdf
END:VEVENT
END:VCALENDAR