BEGIN:VCALENDAR
VERSION:2.0
PRODID:-//Our Family of Charitable Foundations - ECPv6.13.2.1//NONSGML v1.0//EN
CALSCALE:GREGORIAN
METHOD:PUBLISH
X-WR-CALNAME:Our Family of Charitable Foundations
X-ORIGINAL-URL:https://reocharitablefoundation.org
X-WR-CALDESC:Events for Our Family of Charitable Foundations
REFRESH-INTERVAL;VALUE=DURATION:PT1H
X-Robots-Tag:noindex
X-PUBLISHED-TTL:PT1H
BEGIN:VTIMEZONE
TZID:America/Halifax
BEGIN:DAYLIGHT
TZOFFSETFROM:-0400
TZOFFSETTO:-0300
TZNAME:ADT
DTSTART:20210314T060000
END:DAYLIGHT
BEGIN:STANDARD
TZOFFSETFROM:-0300
TZOFFSETTO:-0400
TZNAME:AST
DTSTART:20211107T050000
END:STANDARD
BEGIN:DAYLIGHT
TZOFFSETFROM:-0400
TZOFFSETTO:-0300
TZNAME:ADT
DTSTART:20220313T060000
END:DAYLIGHT
BEGIN:STANDARD
TZOFFSETFROM:-0300
TZOFFSETTO:-0400
TZNAME:AST
DTSTART:20221106T050000
END:STANDARD
END:VTIMEZONE
BEGIN:VTIMEZONE
TZID:America/Detroit
BEGIN:DAYLIGHT
TZOFFSETFROM:-0500
TZOFFSETTO:-0400
TZNAME:EDT
DTSTART:20220313T070000
END:DAYLIGHT
BEGIN:STANDARD
TZOFFSETFROM:-0400
TZOFFSETTO:-0500
TZNAME:EST
DTSTART:20221106T060000
END:STANDARD
END:VTIMEZONE
BEGIN:VEVENT
DTSTART;TZID=America/Halifax:20221129T120000
DTEND;TZID=America/Halifax:20221129T140000
DTSTAMP:20260424T081342
CREATED:20221121T230035Z
LAST-MODIFIED:20221122T191911Z
UID:1836-1669723200-1669730400@reocharitablefoundation.org
SUMMARY:Real Estate One Troy Giving Tuesday Toy Drive with Soup & Salad
DESCRIPTION:https://support.reocharitablefoundation.org/GTToyDriveTroy22
URL:https://reocharitablefoundation.org/event/troy-giving-tuesday-toy-drive-with-soup-salad/
LOCATION:MI
ATTACH;FMTTYPE=image/png:https://reocharitablefoundation.org/wp-content/uploads/2022/11/TOY-DRIVE-FOR-childrens-hospital-of-michigan-foundation.png
END:VEVENT
BEGIN:VEVENT
DTSTART;TZID=America/Halifax:20221129T110000
DTEND;TZID=America/Halifax:20221129T160000
DTSTAMP:20260424T081342
CREATED:20221123T210839Z
LAST-MODIFIED:20221123T210839Z
UID:1896-1669719600-1669737600@reocharitablefoundation.org
SUMMARY:Real Estate One Dearborn Giving Tuesday Silent Auction
DESCRIPTION:https://support.reocharitablefoundation.org/DearbornGTSilent
URL:https://reocharitablefoundation.org/event/real-estate-one-dearborn-giving-tuesday-silent-auction-2/
LOCATION:Real Estate One Dearborn\, 22001 Michigan Ave.\, Ste 110\, Dearborn\, 48124\, United States
ATTACH;FMTTYPE=image/jpeg:https://reocharitablefoundation.org/wp-content/uploads/2022/11/Navy-Blue-Minimalist-Giving-Tuesday-Charity-Movement-Instagram-Post66.jpg
END:VEVENT
BEGIN:VEVENT
DTSTART;TZID=America/Halifax:20221129T110000
DTEND;TZID=America/Halifax:20221129T150000
DTSTAMP:20260424T081342
CREATED:20221122T185049Z
LAST-MODIFIED:20221122T215455Z
UID:1887-1669719600-1669734000@reocharitablefoundation.org
SUMMARY:Reinhart West Giving Tuesday Raffle Extravaganza
DESCRIPTION:Gift of Life Michigan: Honoring Life through Donation \nhttps://support.reocharitablefoundation.org/GiftofLifeMichigan
URL:https://reocharitablefoundation.org/event/reinhart-west-giving-tuesday-raffle-extravaganza/
LOCATION:Reinhart West\, 2275 S. Stadium Blvd.\, Ann Arbor\, 48103\, United States
ATTACH;FMTTYPE=application/pdf:https://reocharitablefoundation.org/wp-content/uploads/2022/11/RCFWestRaffle22.pdf
END:VEVENT
BEGIN:VEVENT
DTSTART;TZID=America/Halifax:20221129T110000
DTEND;TZID=America/Halifax:20221129T150000
DTSTAMP:20260424T081342
CREATED:20221122T160325Z
LAST-MODIFIED:20221129T161026Z
UID:1862-1669719600-1669734000@reocharitablefoundation.org
SUMMARY:Real Estate One Southgate Giving Tuesday Blow Out
DESCRIPTION:Walking Taco Bar \nBake Sale \nFun Activities & Giveaways
URL:https://reocharitablefoundation.org/event/southgate-giving-tuesday-blow-out/
LOCATION:MI
END:VEVENT
BEGIN:VEVENT
DTSTART;TZID=America/Halifax:20221129T110000
DTEND;TZID=America/Halifax:20221129T140000
DTSTAMP:20260424T081342
CREATED:20221122T171545Z
LAST-MODIFIED:20221122T192528Z
UID:1873-1669719600-1669730400@reocharitablefoundation.org
SUMMARY:Real Estate One West Bloomfield Potluck in Honor of Tony Camilleri
DESCRIPTION:This year’s Potluck will be held on #GivingTuesday. In honor of\nour friend Tony Camilleri\, we will be giving to the American\nDiabetes Association as well as our Chaldean Charity Help\nIraq. We would love to see all of you and your guests for a fantastic\nday full of food\, fun\, and fundraising!
URL:https://reocharitablefoundation.org/event/west-bloomfield-potluck-in-honor-of-tony-camilleri/
LOCATION:MI
ATTACH;FMTTYPE=image/png:https://reocharitablefoundation.org/wp-content/uploads/2022/11/Screen-Shot-2022-11-22-at-11.18.39-AM.png
END:VEVENT
BEGIN:VEVENT
DTSTART;TZID=America/Halifax:20221129T110000
DTEND;TZID=America/Halifax:20221129T140000
DTSTAMP:20260424T081342
CREATED:20221122T160833Z
LAST-MODIFIED:20221122T192552Z
UID:1863-1669719600-1669730400@reocharitablefoundation.org
SUMMARY:Real Estate One Clinton Twp. Giving Tuesday Lunch & Norwex Presentation
DESCRIPTION:Join the Clinton Twp. office for lunch and an informative presentation on how for 25 years Norwex has been redefining clean- reducing harmful chemicals in homes around the world and creating safe havens for all. Test-drive and shop the line of available products. \nCreate a Safe Haven For Your Family by Reducing Chemicals In Your Home. Shop Norwex. Save Money While Improving The Health of Your Home and Our Environment. Shop Now. Resistant to Mildew. Helps eliminate waste. Ultra-thick & absorbent.
URL:https://reocharitablefoundation.org/event/clinton-twp-giving-tuesday-lunch-norwex-presentation/
LOCATION:MI
END:VEVENT
BEGIN:VEVENT
DTSTART;TZID=America/Halifax:20221129T110000
DTEND;TZID=America/Halifax:20221129T140000
DTSTAMP:20260424T081342
CREATED:20221122T152804Z
LAST-MODIFIED:20221123T211725Z
UID:1860-1669719600-1669730400@reocharitablefoundation.org
SUMMARY:Real Estate One Milford Giving Tuesday Soup Lunch
DESCRIPTION:Community Sharing Outreach has been providing food and financial support to those in need in the Huron Valley School District of Oakland County since 2004. As a volunteer-based organization\, with over 200 volunteers\, expenses are low\, which means ninety cents of every dollar spent can go directly to client services. On average\, 700 men\, women and children receive assistance each month.
URL:https://reocharitablefoundation.org/event/milford-giving-tuesday-soup-lunch/
LOCATION:MI
ATTACH;FMTTYPE=application/pdf:https://reocharitablefoundation.org/wp-content/uploads/2022/11/MilfordSoupGT.pdf
END:VEVENT
BEGIN:VEVENT
DTSTART;TZID=America/Halifax:20221129T110000
DTEND;TZID=America/Halifax:20221129T140000
DTSTAMP:20260424T081342
CREATED:20221122T131819Z
LAST-MODIFIED:20221122T131819Z
UID:1858-1669719600-1669730400@reocharitablefoundation.org
SUMMARY:Reinhart South Giving Tuesday Chili Cookoff
DESCRIPTION:https://support.reocharitablefoundation.org/ChiliCO22SOS
URL:https://reocharitablefoundation.org/event/reinhart-south-giving-tuesday-chili-cookoff/
LOCATION:MI
ATTACH;FMTTYPE=image/jpeg:https://reocharitablefoundation.org/wp-content/uploads/2022/11/Chili-facebook-cover-photo-116.jpg
END:VEVENT
BEGIN:VEVENT
DTSTART;TZID=America/Halifax:20221129T110000
DTEND;TZID=America/Halifax:20221129T140000
DTSTAMP:20260424T081343
CREATED:20221121T223830Z
LAST-MODIFIED:20221121T231306Z
UID:1829-1669719600-1669730400@reocharitablefoundation.org
SUMMARY:HomeSuite Giving Tuesday Soup & Dessert Bar for Forgotten Harvest
DESCRIPTION:
URL:https://reocharitablefoundation.org/event/homesuite-giving-tuesday-soup-dessert-bar-for-forgotten-harvest/
LOCATION:MI
ATTACH;FMTTYPE=image/png:https://reocharitablefoundation.org/wp-content/uploads/2022/11/SOUPer-Tuesday-2.png
END:VEVENT
BEGIN:VEVENT
DTSTART;TZID=America/Halifax:20221129T110000
DTEND;TZID=America/Halifax:20221129T140000
DTSTAMP:20260424T081343
CREATED:20221121T223358Z
LAST-MODIFIED:20221122T165829Z
UID:1827-1669719600-1669730400@reocharitablefoundation.org
SUMMARY:Giving Tuesday Ladles of Love Northern Michigan Offices
DESCRIPTION:https://support.reocharitablefoundation.org/LadlesofLove22 \nParticipating Offices & Supported Food Banks \nTC Front St in support of Father Fred’s Community Food Bank \nTC Randolph in support of Father Fred’s Community Food Bank \nBellaire in support of Bellaire Community Food Pantry \nElk Rapids in support of Elk Rapids Community Cupboard \nBeulah in support of BACN (Benzie Area Christian Neighbors) \nCadillac in support of Feeding American Cadillac Mobile Food Pantry \nPetoskey in support of Manna Food Pantry \nCharlevoix in support of Charlevoix Food Pantry
URL:https://reocharitablefoundation.org/event/giving-tuesday-ladles-of-love-northern-michigan-offices/
LOCATION:MI
ATTACH;FMTTYPE=application/pdf:https://reocharitablefoundation.org/wp-content/uploads/2022/11/LoLflyer202260.pdf
END:VEVENT
BEGIN:VEVENT
DTSTART;TZID=America/Halifax:20221129T100000
DTEND;TZID=America/Halifax:20221129T170000
DTSTAMP:20260424T081343
CREATED:20221122T161254Z
LAST-MODIFIED:20221122T191325Z
UID:1864-1669716000-1669741200@reocharitablefoundation.org
SUMMARY:Max Broock Royal Oak Giving Tuesday Toy Drive for the Children's Foundation
DESCRIPTION:Bring in new toys (include receipt for in-kind donation matching) or make a donation to the Children’s Foundation. Toys being collected will be part of the Children’s Hospital Snowpile event where patients and their families will have the ability to “shop” for their own gifts from the donations collected. \nThe Children’s Foundation works collaboratively to improve the health and well-being of children and their families. \n  \nhttps://www.justgiving.com/fundraising/justinandlindsay22?utm_source=copyLink&utm_medium=fundraising&utm_content=justinandlindsay22&utm_campaign=pfp-share&utm_term=882ae78b6c6f47a5bd09f43800d262fb
URL:https://reocharitablefoundation.org/event/royal-oak-giving-tuesday-toy-drive-for-u-of-m-childrens-hospital-foundation/
LOCATION:Max Broock Royal Oak\, 26236 Woodward\, Royal Oak\, 48067\, United States
ATTACH;FMTTYPE=image/png:https://reocharitablefoundation.org/wp-content/uploads/2022/11/Childrens-Foundation.png
END:VEVENT
BEGIN:VEVENT
DTSTART;TZID=America/Halifax:20221129T100000
DTEND;TZID=America/Halifax:20221129T150000
DTSTAMP:20260424T081343
CREATED:20221122T173519Z
LAST-MODIFIED:20221122T173519Z
UID:1879-1669716000-1669734000@reocharitablefoundation.org
SUMMARY:Real Estate One Saline Giving Tuesday Adopt-A-Family
DESCRIPTION:
URL:https://reocharitablefoundation.org/event/real-estate-one-saline-giving-tuesday-adopt-a-family/
LOCATION:Real Estate One Saline\, 1365 E. Michigan Ave\, Saline\, 48176\, United States
ATTACH;FMTTYPE=image/png:https://reocharitablefoundation.org/wp-content/uploads/2022/11/Screen-Shot-2022-11-22-at-11.31.51-AM.png
END:VEVENT
BEGIN:VEVENT
DTSTART;TZID=America/Halifax:20221129T100000
DTEND;TZID=America/Halifax:20221129T150000
DTSTAMP:20260424T081343
CREATED:20221122T172816Z
LAST-MODIFIED:20221122T172955Z
UID:1876-1669716000-1669734000@reocharitablefoundation.org
SUMMARY:Max Broock Bloomfield Hills Giving Tuesday Adopt-A-Family
DESCRIPTION:  \nIn a year dominated by difficulty\, our community needs hope more than ever. This holiday season\, you can give the gift of hope by adopting a local family and purchasing gifts for them\, ensuring their holiday is one to remember. LIGHTHOUSE OF OAKLAND COUNTY \n 
URL:https://reocharitablefoundation.org/event/max-broock-bloomfield-hills-giving-tuesday-adopt-a-family/
LOCATION:Max Broock Bloomfield Hills\, 4130 Telegraph\, Blooomfield Hills\, 48302
ATTACH;FMTTYPE=image/png:https://reocharitablefoundation.org/wp-content/uploads/2022/11/Screen-Shot-2022-11-22-at-11.22.51-AM.png
END:VEVENT
BEGIN:VEVENT
DTSTART;TZID=America/Halifax:20221129T100000
DTEND;TZID=America/Halifax:20221129T150000
DTSTAMP:20260424T081343
CREATED:20221122T170404Z
LAST-MODIFIED:20221122T191700Z
UID:1870-1669716000-1669734000@reocharitablefoundation.org
SUMMARY:Real Estate One Rochester Giving Tuesday Silent Auction
DESCRIPTION:
URL:https://reocharitablefoundation.org/event/rochester-giving-tuesday-silent-auction/
LOCATION:Real Estate One Rochester\, 1002 Main Street\, Rochester\, 48307
ATTACH;FMTTYPE=image/png:https://reocharitablefoundation.org/wp-content/uploads/2022/11/ACSlogo.png
END:VEVENT
BEGIN:VEVENT
DTSTART;TZID=America/Halifax:20221129T090000
DTEND;TZID=America/Halifax:20221129T170000
DTSTAMP:20260424T081343
CREATED:20221122T124011Z
LAST-MODIFIED:20221122T124151Z
UID:1853-1669712400-1669741200@reocharitablefoundation.org
SUMMARY:Reinhart Saline Giving Tuesday Cookie Bake Sale
DESCRIPTION:
URL:https://reocharitablefoundation.org/event/reinhart-saline-giving-tuesday-cookie-bake-sale/
LOCATION:MI
ATTACH;FMTTYPE=image/jpeg:https://reocharitablefoundation.org/wp-content/uploads/2022/11/314641672_3211574889172432_2494842706100014305_n.jpg
END:VEVENT
BEGIN:VEVENT
DTSTART;TZID=America/Halifax:20221029T080000
DTEND;TZID=America/Halifax:20221029T110000
DTSTAMP:20260424T081343
CREATED:20220819T145959Z
LAST-MODIFIED:20220914T201109Z
UID:1801-1667030400-1667041200@reocharitablefoundation.org
SUMMARY:Walk to End Alzheimer's
DESCRIPTION:Detroit Zoo \nhttps://act.alz.org/site/TR/Walk2022/MI-GreaterMichigan?team_id=764542&pg=team&fr_id=15634 \nHeld annually in more than 600 communities nationwide\, the Alzheimer’s Association Walk to End Alzheimer’s® is the world’s largest fundraiser for Alzheimer’s care\, support and research. This inspiring event calls on participants of all ages and abilities to join the fight against the disease. \nYour health and safety are our top priorities. We will continue to closely monitor CDC\, state and local guidelines to ensure Walk events adhere to the latest recommendations.
URL:https://reocharitablefoundation.org/event/walk-to-end-alzheimers-3/
LOCATION:Detroit Zoo\, 8450 W. 10 Mile Rd.\, Royal Oak\, MI\, 48067\, United States
ATTACH;FMTTYPE=image/png:https://reocharitablefoundation.org/wp-content/uploads/2022/08/walk-to-end-alzheimers.png
END:VEVENT
BEGIN:VEVENT
DTSTART;TZID=America/Halifax:20221003T090000
DTEND;TZID=America/Halifax:20221003T180000
DTSTAMP:20260424T081343
CREATED:20220819T151401Z
LAST-MODIFIED:20220819T151401Z
UID:1804-1664787600-1664820000@reocharitablefoundation.org
SUMMARY:32nd Annual Tee Up Fore Kids for Child & Family Services of Northwestern MI
DESCRIPTION:SOLD OUT
URL:https://reocharitablefoundation.org/event/32nd-annual-tee-up-fore-kids-for-child-family-services-of-northwestern-mi/
LOCATION:Kingsley Club Golf Course\, 600 Niblick Trail\, Kingsley\, MI\, United States
ATTACH;FMTTYPE=image/png:https://reocharitablefoundation.org/wp-content/uploads/2022/08/Screen-Shot-2022-08-19-at-11.10.04-AM.png
END:VEVENT
BEGIN:VEVENT
DTSTART;TZID=America/Halifax:20220929T180000
DTEND;TZID=America/Halifax:20220929T210000
DTSTAMP:20260424T081343
CREATED:20220914T200115Z
LAST-MODIFIED:20220914T200115Z
UID:1816-1664474400-1664485200@reocharitablefoundation.org
SUMMARY:LLS Light the Night
DESCRIPTION:https://pages.lls.org/ltn/mi/DetroitL22/RealEstateOneCharitableFoundation \nJoin us in bringing light to the darkness of cancer! We are forming a fundraising walk team for The Leukemia & Lymphoma Society’s (LLS) Light The Night. Register today to join our team or make a donation and help fund cancer cures! \nFunds raised through Light The Night allow LLS to fund treatments for patients who are suffering from all forms of blood cancers. Since 2017\, LLS has helped advance 85% of the blood cancer treatment options approved by the FDA. \nHelp defeat the darkness of cancer. Please make a donation today to continue to help patients and their families across the country!
URL:https://reocharitablefoundation.org/event/lls-light-the-night-2/
LOCATION:Hart Plaza\, 1 Hart Plaza\, Detroit\, MI\, 48226\, United States
ATTACH;FMTTYPE=image/png:https://reocharitablefoundation.org/wp-content/uploads/2022/09/Screen-Shot-2022-09-14-at-3.56.51-PM.png
END:VEVENT
BEGIN:VEVENT
DTSTART;TZID=America/Halifax:20220918T080000
DTEND;TZID=America/Halifax:20220918T120000
DTSTAMP:20260424T081343
CREATED:20220819T142751Z
LAST-MODIFIED:20220914T200943Z
UID:1794-1663488000-1663502400@reocharitablefoundation.org
SUMMARY:JDRF One Walk Detroit
DESCRIPTION:@ Milliken State Park \nhttps://www2.jdrf.org/site/TR?fr_id=8683&pg=personal&px=9183900 \nIt takes One Walk to fight T1D\nThe JDRF One Walk is your chance to show the world that together\, we can conquer type 1 diabetes (T1D). If you’re living with T1D or you love someone living with T1D\, you’ll likely do just about anything to make life easier. \nWhen you participate in JDRF One Walk\, the money you raise will power more research\, enable more advocacy and fund more support for the 1.6 million Americans living with T1D. And\, you’ll have a great time doing it! That’s because you’ll walk with a committed community that is passionate about doing whatever it takes to live in a world without T1D. \nBy joining the JDRF One Walk\, you’ll be part of the lasting footprint we’ll make for the T1D community now\, and for generations to come. We can’t wait for you to join us!
URL:https://reocharitablefoundation.org/event/jdrf-one-walk-detroit/
LOCATION:Milliken State Park\, 1900 Atwater Street\, Detroit\, 48207\, United States
ATTACH;FMTTYPE=image/png:https://reocharitablefoundation.org/wp-content/uploads/2022/08/Screen-Shot-2022-08-19-at-10.19.44-AM.png
END:VEVENT
BEGIN:VEVENT
DTSTART;TZID=America/Halifax:20220910T170000
DTEND;TZID=America/Halifax:20220910T200000
DTSTAMP:20260424T081343
CREATED:20220819T141609Z
LAST-MODIFIED:20220819T141739Z
UID:1791-1662829200-1662840000@reocharitablefoundation.org
SUMMARY:Taste of Generosity | Multiple Sclerosis Society
DESCRIPTION:@ Royal Oak’s Farmer’s Market \n  \nWhat does generosity taste like? It tastes like the finest Michigan made\, grown\, and produced food and beverages available! From our State’s top growers\, producers\, bakers\, cooks\, chefs\, brewers\, vintners\, and bottlers you can enjoy samples\, nibbles\, bites\, cocktails\, and beverages of all of these delicacies. This first annual “Michigan Made Food and Fun Festival” to benefit the National Multiple Sclerosis Society will feature Michigan made items for guests to sample and taste (and purchase to take home)\, free activities for children\, as well as engaging and educational exhibits regarding multiple sclerosis and those affected by it. Open to guests of all ages\, this event is an exciting and fun way for the whole family to support your National MS Society in their mission to cure MS while empowering people affected by MS to live their best lives.
URL:https://reocharitablefoundation.org/event/taste-of-generosity-multiple-sclerosis-society/
LOCATION:Royal Oak Farmer’s Market\, 316 E. Eleven Mile\, Royal Oak\, MI\, United States
ATTACH;FMTTYPE=image/png:https://reocharitablefoundation.org/wp-content/uploads/2022/08/MSSTasteofGenerosity.png
END:VEVENT
BEGIN:VEVENT
DTSTART;TZID=America/Halifax:20220829T180000
DTEND;TZID=America/Halifax:20220829T210000
DTSTAMP:20260424T081343
CREATED:20220819T144511Z
LAST-MODIFIED:20220819T144511Z
UID:1798-1661796000-1661806800@reocharitablefoundation.org
SUMMARY:Light the Night | LLS
DESCRIPTION:Hart Plaza Detroit \n  \nhttps://pages.lls.org/ltn/mi/DetroitL22/RealEstateOneCharitableFoundation
URL:https://reocharitablefoundation.org/event/light-the-night-lls-2/
LOCATION:Hart Plaza\, 1 Hart Plaza\, Detroit\, MI\, 48226\, United States
ATTACH;FMTTYPE=image/jpeg:https://reocharitablefoundation.org/wp-content/uploads/2022/08/LTN15_logo_WhiteBackground-scaled.jpg
END:VEVENT
BEGIN:VEVENT
DTSTART;TZID=America/Halifax:20220828T103000
DTEND;TZID=America/Halifax:20220828T150000
DTSTAMP:20260424T081343
CREATED:20220819T140624Z
LAST-MODIFIED:20220819T140658Z
UID:1788-1661682600-1661698800@reocharitablefoundation.org
SUMMARY:Walk for Friendship
DESCRIPTION:  \nhttp://www.walk4friendship.org/RealEstateOne
URL:https://reocharitablefoundation.org/event/walk-for-friendship/
LOCATION:Friendship Circle’s Farber Center\, 5586 Drake Rd.\, West Bloomfield Twp.\, 48322\, United States
ATTACH;FMTTYPE=image/png:https://reocharitablefoundation.org/wp-content/uploads/2022/08/FriendshipCircleLogo.png
END:VEVENT
BEGIN:VEVENT
DTSTART;TZID=America/Halifax:20220827T090000
DTEND;TZID=America/Halifax:20220827T180000
DTSTAMP:20260424T081343
CREATED:20220819T135523Z
LAST-MODIFIED:20220819T135523Z
UID:1786-1661590800-1661623200@reocharitablefoundation.org
SUMMARY:Paddle for a Purpose | Coats for Kids
DESCRIPTION:https://support.reocharitablefoundation.org/Paddle4Purpose22
URL:https://reocharitablefoundation.org/event/paddle-for-a-purpose-coats-for-kids-2/
LOCATION:MI
ATTACH;FMTTYPE=application/pdf:https://reocharitablefoundation.org/wp-content/uploads/2022/08/P4P-Flyer94.pdf
END:VEVENT
BEGIN:VEVENT
DTSTART;TZID=America/Halifax:20220826T080000
DTEND;TZID=America/Halifax:20220924T170000
DTSTAMP:20260424T081343
CREATED:20220819T163932Z
LAST-MODIFIED:20220819T163955Z
UID:1813-1661500800-1664038800@reocharitablefoundation.org
SUMMARY:SOMI Fall Games
DESCRIPTION:https://somich.vsysweb.com/ \n  \nSoftball\n \n\nAug 26\, 2022\nCanton Softball Complex\n46555 Michigan Ave.\, Canton\, MI 48188\n\nSoccer\n \n\nAug 27\, 2022\nSOMI Unified Sports & Inclusion Center\n160 68th St. SW\, Grand Rapids\, MI 49548\n\nGolf\n \n\nSeptember 23\, 2022\nEagle Crest Golf Club\n1201 S Huron St.\, Ypsilanti\, MI 48197\n\nCycling\n \n\nSeptember 24\, 2022\nChrysler Chelsea Proving Grounds \n3700 S Mi State Road 52\, Chelsea\, MI 48118\n\nFlag Football\n \n\nSeptember 24\, 2022\nChrysler Chelsea Proving Grounds \n3700 S Mi State Road 52\, Chelsea\, MI 48118
URL:https://reocharitablefoundation.org/event/somi-fall-games/
LOCATION:MI
ATTACH;FMTTYPE=image/png:https://reocharitablefoundation.org/wp-content/uploads/2022/08/Screen-Shot-2022-08-19-at-12.36.47-PM.png
END:VEVENT
BEGIN:VEVENT
DTSTART;TZID=America/Halifax:20220825T173000
DTEND;TZID=America/Halifax:20220825T200000
DTSTAMP:20260424T081343
CREATED:20220819T134516Z
LAST-MODIFIED:20220819T135151Z
UID:1782-1661448600-1661457600@reocharitablefoundation.org
SUMMARY:Painting with a Mitch
DESCRIPTION:Painting and Wine Tasting. \nPainting instruction of Lake Michigan beaches. \nLight appetizers\, charcuterie\, and Michigan wine tasting. \nhttps://support.reocharitablefoundation.org/PaintandWineSOMI \n  \n  \n  \n  \n  \n 
URL:https://reocharitablefoundation.org/event/painting-with-a-mitch/
LOCATION:The Broock\, 413 W. Nine Mile Rd.\, Ferndale\, MI\, 48220\, United States
ATTACH;FMTTYPE=image/jpeg:https://reocharitablefoundation.org/wp-content/uploads/2022/08/PaintingWithAMitch37-1.jpg
END:VEVENT
BEGIN:VEVENT
DTSTART;TZID=America/Halifax:20220822T100000
DTEND;TZID=America/Halifax:20220822T180000
DTSTAMP:20260424T081343
CREATED:20220819T155713Z
LAST-MODIFIED:20220819T155713Z
UID:1807-1661162400-1661191200@reocharitablefoundation.org
SUMMARY:East Side Offices Golf Fore Forgotten Harvest
DESCRIPTION:https://support.reocharitablefoundation.org/GolfForgottenHarvest
URL:https://reocharitablefoundation.org/event/east-side-offices-golf-fore-forgotten-harvest/
LOCATION:Gowanie Golf Club\, 24770 S. River Rd. \, Harrison Twp.\, MI\, 48045\, United States
ATTACH;FMTTYPE=image/png:https://reocharitablefoundation.org/wp-content/uploads/2022/08/Screen-Shot-2022-08-19-at-11.53.13-AM.png
END:VEVENT
BEGIN:VEVENT
DTSTART;TZID=America/Halifax:20220821T140000
DTEND;TZID=America/Halifax:20220821T170000
DTSTAMP:20260424T081343
CREATED:20220819T161539Z
LAST-MODIFIED:20220819T161539Z
UID:1810-1661090400-1661101200@reocharitablefoundation.org
SUMMARY:First Annual Benefit Golf Outing | REO Bellaire & Elk Rapids
DESCRIPTION:  \nhttps://www.eventbrite.com/e/golf-tees-for-house-keys-tickets-383071275497
URL:https://reocharitablefoundation.org/event/first-annual-benefit-golf-outing-reo-bellaire-elk-rapids/
LOCATION:Antrim Dells Golf Course\, 12352 Antrim Drive\, Ellsworth\, MI\, 49729\, United States
ATTACH;FMTTYPE=image/png:https://reocharitablefoundation.org/wp-content/uploads/2022/08/Screen-Shot-2022-08-19-at-12.09.55-PM.png
END:VEVENT
BEGIN:VEVENT
DTSTART;VALUE=DATE:20220731
DTEND;VALUE=DATE:20220807
DTSTAMP:20260424T081343
CREATED:20220503T000843Z
LAST-MODIFIED:20220503T000843Z
UID:1763-1659225600-1659830399@reocharitablefoundation.org
SUMMARY:Fans in the Stands
DESCRIPTION:
URL:https://reocharitablefoundation.org/event/fans-in-the-stands/
LOCATION:Keyworth Stadium\, 3201 Roosevelt St.\, Hamtramck\, United States
ATTACH;FMTTYPE=image/jpeg:https://reocharitablefoundation.org/wp-content/uploads/2022/05/Fans-in-the-stands-web.jpg
END:VEVENT
BEGIN:VEVENT
DTSTART;TZID=America/Detroit:20220609T093000
DTEND;TZID=America/Detroit:20220609T210000
DTSTAMP:20260424T081343
CREATED:20220401T144745Z
LAST-MODIFIED:20220401T144936Z
UID:1744-1654767000-1654808400@reocharitablefoundation.org
SUMMARY:17th Annual Screen Door Golf Outing 'fore' Special Olympics Michigan
DESCRIPTION:
URL:https://reocharitablefoundation.org/event/17th-annual-screen-door-golf-outing-fore-special-olympics-michigan/
LOCATION:Fox Hills Golf & Banquet\, 8768 N. Territorial Rd.\, Plymouth\, MI\, 48170\, United States
END:VEVENT
BEGIN:VEVENT
DTSTART;TZID=America/Halifax:20211028T180000
DTEND;TZID=America/Halifax:20211028T200000
DTSTAMP:20260424T081343
CREATED:20210914T011034Z
LAST-MODIFIED:20210914T011034Z
UID:1629-1635444000-1635451200@reocharitablefoundation.org
SUMMARY:HOWL-O-WEEN YAPPY HOUR in support of Cherryland Humane Society
DESCRIPTION:https://support.reocharitablefoundation.org/HowlYappy
URL:https://reocharitablefoundation.org/event/howl-o-ween-yappy-hour-in-support-of-cherryland-humane-society/
LOCATION:Real Estate One Front Street\, 511 E. Front Street\, Traverse City\, 49686\, United States
ATTACH;FMTTYPE=image/png:https://reocharitablefoundation.org/wp-content/uploads/2021/09/httpssupport.reocharitablefoundation.orgHowlYappy-3.png
END:VEVENT
END:VCALENDAR